BEGIN:VCALENDAR
VERSION:2.0
PRODID:-//ChamberMaster//Event Calendar 2.0//EN
METHOD:PUBLISH
X-PUBLISHED-TTL:P3D
REFRESH-INTERVAL:P3D
CALSCALE:GREGORIAN
BEGIN:VEVENT
DTSTART:20160105T043000Z
DTEND:20160105T073000Z
X-MICROSOFT-CDO-ALLDAYEVENT:FALSE
SUMMARY:Azul - Rock\, Funk and Jazz Dance Party
DESCRIPTION:Hill House will feature Azul\, an all instrumental\,  contemporary Rock\, Jazz and Funk band. The  band's suggests the feel...  Blues\, with a Latin simmer.  Great dance grooves. The current line-up includes Nat Montoya on Bass\,  John Bush on Drums\, Aaron Ford on Guitar\, and Doug Smith on Keyboards\,  playing originals as well as songs we all have in our memory\, freshly  interpreted\, inflected with hues of latin\, funk\, and jazz.... and always  returning to the color â€œAzulâ€. \n\n Doors open at 6PM for casual dining and full bar\, Music at 7:30PM. $10 at the door. 937-0554
X-ALT-DESC;FMTTYPE=text/html:<p><span style="font-size:small\;">Hill House will feature Azul\, an all instrumental\,  contemporary Rock\, Jazz and Funk band. The  band's suggests the feel...  Blues\, with a Latin simmer.  Great dance grooves. The current line-up includes Nat Montoya on Bass\,  John Bush on Drums\, Aaron Ford on Guitar\, and Doug Smith on Keyboards\,  playing originals as well as songs we all have in our memory\, freshly  interpreted\, inflected with hues of latin\, funk\, and jazz.... and always  returning to the color â€œAzulâ€. <br /><br /> Doors open at 6PM for casual dining and full bar\, Music at 7:30PM. $10 at the door. 937-0554</span></p>
LOCATION:Hill House of Mendocino
UID:e.2883.822
SEQUENCE:3
DTSTAMP:20260421T224952Z
URL:https://mendocinocoast.com/events/details/azul-rock-funk-and-jazz-dance-party-01-04-2016-822
END:VEVENT

END:VCALENDAR
