BEGIN:VCALENDAR
VERSION:2.0
PRODID:-//ChamberMaster//Event Calendar 2.0//EN
METHOD:PUBLISH
X-PUBLISHED-TTL:P3D
REFRESH-INTERVAL:P3D
CALSCALE:GREGORIAN
BEGIN:VEVENT
DTSTART:20140118T210000Z
DTEND:20140119T010000Z
X-MICROSOFT-CDO-ALLDAYEVENT:FALSE
SUMMARY:Award-Winning Makeup Artist\, Patty Androff\, to Teach Makeup for Theatre
DESCRIPTION:Presented by Gloriana Musical Theatre\, Pattys film and television work include Dances With Wolves\, The Blindside\, The Hangover\, Beverley Hills\, 90210\, Big Love. Two classes: Wed. January 15\, 4-6pm\, ages 7-17 learn fantasy makeup\, cuts\, bruises\, create a body part with tattoo inks ($15) & Sat. January 18\, 10am-2pm 18 yrs+ learn to enhance your best features\, create a makeup kit\, cuts\, bruises\, mustaches\, and beards ($30). Limited Space. Register 964-show(7469)
X-ALT-DESC;FMTTYPE=text/html:<p>Presented by Gloriana Musical Theatre\, Pattys film and television work include Dances With Wolves\, The Blindside\, The Hangover\, Beverley Hills\, 90210\, Big Love. Two classes: Wed. January 15\, 4-6pm\, ages 7-17 learn fantasy makeup\, cuts\, bruises\, create a body part with tattoo inks ($15) &amp\; Sat. January 18\, 10am-2pm 18 yrs+ learn to enhance your best features\, create a makeup kit\, cuts\, bruises\, mustaches\, and beards ($30). Limited Space. Register 964-show(7469)</p>
LOCATION:Eagles Hall Mendocino
UID:e.2883.38
SEQUENCE:3
DTSTAMP:20260423T150345Z
URL:https://mendocinocoast.com/events/details/award-winning-makeup-artist-patty-androff-to-teach-makeup-for-theatre-01-18-2014-38
END:VEVENT

END:VCALENDAR
