BEGIN:VCALENDAR
VERSION:2.0
PRODID:-//ChamberMaster//Event Calendar 2.0//EN
METHOD:PUBLISH
X-PUBLISHED-TTL:P3D
REFRESH-INTERVAL:P3D
CALSCALE:GREGORIAN
BEGIN:VEVENT
DTSTART:20150128T040000Z
DTEND:20150128T063000Z
X-MICROSOFT-CDO-ALLDAYEVENT:FALSE
SUMMARY:Auditions for the play Mauritius
DESCRIPTION:The Mendocino Theatre Company announces auditions for Mauritius\, a dynamic new comedy/drama will be directed by accomplished professional Bob Cohen. Auditions will be held January 29th and 30th from 7 to 9:30 p.m. at the Community Center of Mendocinoâ€™s Don Murray room\, 998 School Street\, Mendocino. Mauritius performs April 23rd through May 31st\, 2015.For more information or to check out a perusal copy\, contact Producing Director Felicia Freitas at 937-2718 or at mtc@mcn.org. Director Bob Cohen may be reached at 707-937-1949
X-ALT-DESC;FMTTYPE=text/html:<p>The Mendocino Theatre Company announces auditions for Mauritius\, a dynamic new comedy/drama will be directed by accomplished professional Bob Cohen. Auditions will be held January 29th and 30th from 7 to 9:30 p.m. at the Community Center of Mendocinoâ€™s Don Murray room\, 998 School Street\, Mendocino. Mauritius performs April 23rd through May 31st\, 2015.</p><p>For more information or to check out a perusal copy\, contact Producing Director Felicia Freitas at 937-2718 or at mtc@mcn.org. Director Bob Cohen may be reached at 707-937-1949</p>
LOCATION:Mendocino Theatre Company Mendocino\, CA
UID:e.2883.475
SEQUENCE:3
DTSTAMP:20260422T163608Z
URL:https://mendocinocoast.com/events/details/auditions-for-the-play-mauritius-01-27-2015-475
END:VEVENT

END:VCALENDAR
