BEGIN:VCALENDAR
VERSION:2.0
PRODID:-//ChamberMaster//Event Calendar 2.0//EN
METHOD:PUBLISH
X-PUBLISHED-TTL:P3D
REFRESH-INTERVAL:P3D
CALSCALE:GREGORIAN
BEGIN:VEVENT
DTSTART:20160221T230000Z
DTEND:20160222T030000Z
X-MICROSOFT-CDO-ALLDAYEVENT:FALSE
SUMMARY:Audition Call for Gloriana's Once Upon a Mattress!
DESCRIPTION:Gloriana Musical Theatre "Once Upon a Mattress" Auditions! Directed by Jeffrey Grant. Show opens May 13.\n\nSaturday\, March 5 - 2-5 PM at Eagles Hall\, corner of Alder and Corry in Fort Bragg\n\nSunday\, March 6 â€“ 2-5 PM at Eagles Hall\n\nPlease fill out an audition form at gloriana.org or send an e-mail to info@gloriana.org to set up an audition.\n\nYou will be asked to prepare a Broadway song (please bring the sheet music accompaniment)\, and to read from the script provided. A script is available for check out by calling 964-7469.\n\nThe show will feature a cast of persons ranging in age from 14 to 60+. A character breakdown list is available at http://www.gloriana.org/audition-form.
X-ALT-DESC;FMTTYPE=text/html:<p><span>Gloriana Musical Theatre "Once Upon a Mattress" Auditions! Directed by </span><span>Jeffrey Grant. Show opens </span><span><span>May 13</span></span><span>.</span><br /><br /><span><span>Saturday\, March 5</span></span><span> - </span><span><span>2-5 PM</span></span><span> at Eagles Hall\, corner of Alder and Corry </span><span>in Fort Bragg</span><br /><br /><span><span>Sunday\, March 6</span></span><span> â€“ </span><span><span>2-5 PM</span></span><span> at Eagles Hall</span><br /><br /><span>Please fill out an audition form at </span><a href="http://gloriana.org/" target="_blank">gloriana.org</a><span> or send an e-mail to </span><a href="mailto:info@gloriana.org">info@gloriana.org</a><span> to set up an audition.</span><br /><br /><span>You will be asked to prepare a Broadway song (please bring the sheet music </span><span>accompaniment)\, and to read from the script provided. A script is available </span><span>for check out by calling 964-7469.</span><br /><br /><span>The show will feature a cast of persons ranging in age from 14 to 60+. A c</span><span>haracter breakdown list is available at </span><a href="http://www.gloriana.org/audition-form" target="_blank">http://www.gloriana.org/audition-form</a><span>.</span></p>
LOCATION:Eagles Hall Theatre\, 210 N Corry Fort Bragg
UID:e.2883.859
SEQUENCE:3
DTSTAMP:20260421T192411Z
URL:https://mendocinocoast.com/events/details/audition-call-for-gloriana-s-once-upon-a-mattress-02-21-2016-859
END:VEVENT

END:VCALENDAR
