BEGIN:VCALENDAR
VERSION:2.0
PRODID:-//ChamberMaster//Event Calendar 2.0//EN
METHOD:PUBLISH
X-PUBLISHED-TTL:P3D
REFRESH-INTERVAL:P3D
CALSCALE:GREGORIAN
BEGIN:VEVENT
DTSTART:20150125T190000Z
DTEND:20150126T020000Z
X-MICROSOFT-CDO-ALLDAYEVENT:FALSE
SUMMARY:Assemblages by Nikolas Kozak
DESCRIPTION:ASSEMBLAGES BY NIKOLAS KOZAKÂ February 5 â€“ March 2\, 2015First Friday Reception February 6\, 5-8pmÂ Long time Mendocino artist Nikolas Kozak is showing his assemblages at Partners Gallery in February. Working with found objects\, frequently of wood\, and odds and ends of discarded materials with additions of acrylic paint\, Kozak fashions unique pieces by juxtaposing objects and materials. Kozak enjoys the challenge of the play of shape\, line\, proportion\, balance\, texture\, color\, movement and pattern.Â Partners Gallery is located at 335N. Franklin Street in Fort Bragg and is open Wednesday through Monday 10 am to 5 pm and Sundays 10 am to 4 pm.707 962-0233Â  http://www.partnersgallery.com
X-ALT-DESC;FMTTYPE=text/html:<p>ASSEMBLAGES BY NIKOLAS KOZAK</p><p>Â </p><p>February 5 â€“ March 2\, 2015</p><p>First Friday Reception February 6\, 5-8pm</p><p>Â </p><p>Long time Mendocino artist Nikolas Kozak is showing his assemblages at Partners Gallery in February. Working with found objects\, frequently of wood\, and odds and ends of discarded materials with additions of acrylic paint\, Kozak fashions unique pieces by juxtaposing objects and materials. Kozak enjoys the challenge of the play of shape\, line\, proportion\, balance\, texture\, color\, movement and pattern.</p><p>Â </p><p>Partners Gallery is located at 335N. Franklin Street in Fort Bragg and is open Wednesday through Monday 10 am to 5 pm and Sundays 10 am to 4 pm.</p><p>707 962-0233Â  http://www.partnersgallery.com&gt\;</p>
LOCATION:Partners Gallery Fort Bragg
UID:e.2883.450
SEQUENCE:3
DTSTAMP:20260422T163255Z
URL:https://mendocinocoast.com/events/details/assemblages-by-nikolas-kozak-01-25-2015-450
END:VEVENT

END:VCALENDAR
