BEGIN:VCALENDAR
VERSION:2.0
PRODID:-//ChamberMaster//Event Calendar 2.0//EN
METHOD:PUBLISH
X-PUBLISHED-TTL:P3D
REFRESH-INTERVAL:P3D
CALSCALE:GREGORIAN
BEGIN:VEVENT
DTSTART:20150521T180000Z
DTEND:20150522T000000Z
X-MICROSOFT-CDO-ALLDAYEVENT:FALSE
SUMMARY:Art in the Gardens 2015
DESCRIPTION:Set amidst the spectacular background of the summer floral displays at Mendocino Coast Botanical Gardens\,Â the 24th annualÂ Art in the Gardens will be held Saturday\, August 1 from 11am to 5pm. The day-long juried art event benefits horticulture\, conservation\, and education projects at the Gardens.ThisÂ family-friendly garden partyÂ has activities for everyone\, from shopping for art (fine art in all media\, edible art\, and boutique products for home and body)\, demonstrations by Pacific Textile Arts members\, toe-tapping music\, and partaking of delectable foods for lunch (available for purchase).Â This year a Beer Tasting option has been added\; beer and wine tasting includes a keepsake glass in the tasting price.This year's featured artwork was created by local botanical artist Marian DeGloria. The watercolor\, titled Succulents\, is available for sale. The image will also grace an event t-shirt. Ms. DeGloria will be in attendance at the Featured Artist Booth. She is a member of the American Society of Botanical Artists and is represented by the Artists Cooperative of Mendocino.Make a date with your best friends and family for this exceptional fundraiser at the Mendocino Coast Botanical Gardens. Ticket cost is $20 advance/$25 at the door\; kids under age 16 free\; wine or beer tasting $20 per person. Tickets are availableÂ online by clicking the link at gardenbythesea.org/aig. No dogs allowed the day of the event. No general admission passes accepted.Mendocino Coast Botanical Gardens is a non-profit public garden located on 47 acres at 18220 North Highway 1\, two miles south of Fort Bragg and six miles north of Mendocino. Please phone 707-964-4352 ext. 16 for more information.
X-ALT-DESC;FMTTYPE=text/html:<p>Set amidst the spectacular background of the summer floral displays at Mendocino Coast Botanical Gardens\,Â the 24th annualÂ <a href="http://www.gardenbythesea.org/aig"><span><strong>Art in the Gardens</strong></span></a><span> will be held <strong>Saturday\, August 1 from 11am to 5pm.</strong> The</span> day-long juried art event benefits horticulture\, conservation\, and education projects at the Gardens.</p><p>ThisÂ family-friendly garden partyÂ has activities for everyone\, from shopping for art (fine art in all media\, edible art\, and boutique products for home and body)\, demonstrations by Pacific Textile Arts members\, toe-tapping music\, and partaking of delectable foods for lunch (available for purchase).Â This year a Beer Tasting option has been added\; beer and wine tasting includes a keepsake glass in the tasting price.</p><p>This year's featured artwork was created by local botanical artist Marian DeGloria. The watercolor\, titled <em>Succulents</em>\, is available for sale. The image will also grace an event t-shirt. Ms. DeGloria will be in attendance at the Featured Artist Booth. She is a member of the American Society of Botanical Artists and is represented by the Artists Cooperative of Mendocino.</p><p>Make a date with your best friends and family for this exceptional fundraiser at the Mendocino Coast Botanical Gardens. Ticket cost is $20 advance/$25 at the door\; kids under age 16 free\; wine or beer tasting $20 per person. Tickets are availableÂ online by clicking the link at <a href="http://gardenbythesea.org/aig"><span>gardenbythesea.org/aig</span></a>. No dogs allowed the day of the event. No general admission passes accepted.</p><p>Mendocino Coast Botanical Gardens is a non-profit public garden located on 47 acres at 18220 North Highway 1\, two miles south of Fort Bragg and six miles north of Mendocino. Please phone 707-964-4352 ext. 16 for more information.</p>
LOCATION:Mendocino Coast Botanical Gardens Fort Bragg
UID:e.2883.632
SEQUENCE:3
DTSTAMP:20260422T115029Z
URL:https://mendocinocoast.com/events/details/art-in-the-gardens-2015-05-21-2015-632
END:VEVENT

END:VCALENDAR
