BEGIN:VCALENDAR
VERSION:2.0
PRODID:-//ChamberMaster//Event Calendar 2.0//EN
METHOD:PUBLISH
X-PUBLISHED-TTL:P3D
REFRESH-INTERVAL:P3D
CALSCALE:GREGORIAN
BEGIN:VEVENT
DTSTART:20140528T180000Z
DTEND:20140529T000000Z
X-MICROSOFT-CDO-ALLDAYEVENT:FALSE
SUMMARY:Art in the Gardens 2014
DESCRIPTION:Save the date for Mendocino Coast Botanical Garden's 23rd annual Art in the Gardens\, a day of fine art\, food\, Mendocino County wine and beer\, music\, and fun in the most beautiful setting on the coast!This family-friendly event is an affordable day for all\; simply purchase adult tickets for $20 in advance ($25 at the door) and kids under 16 get in free. Activities and demonstrations are available for all ages. Or\, come have a wine tasting date with your significant other\; $20 will purchase a wine glass for tasting the many Mendocino County wines represented.Art in the Gardens is a benefit to support horticulture\, conservation\, and education programs at the Mendocino Coast Botanical Gardens.Online ticket sales will be available soon. Check back here\, or at www.gardenbythsea.org.This is a not-t0-be-missed event!
X-ALT-DESC;FMTTYPE=text/html:<p><span style="font-family:georgia\, palatino\;font-size:small\;">Save the date for Mendocino Coast Botanical Garden's 23rd annual Art in the Gardens\, a day of fine art\, food\, Mendocino County wine and beer\, music\, and fun in the most beautiful setting on the coast!</span></p><p><span style="font-family:georgia\, palatino\;font-size:small\;">This family-friendly event is an affordable day for all\; simply purchase adult tickets for $20 in advance ($25 at the door) and kids under 16 get in free. Activities and demonstrations are available for all ages. Or\, come have a wine tasting date with your significant other\; $20 will purchase a wine glass for tasting the many Mendocino County wines represented.</span></p><p><span style="font-family:georgia\, palatino\;font-size:small\;"><em>Art in the Gardens</em> is a benefit to support horticulture\, conservation\, and education programs at the Mendocino Coast Botanical Gardens.</span></p><p><span style="font-family:georgia\, palatino\;font-size:small\;">Online ticket sales will be available soon. Check back here\, or at <strong><a href="http://www.gardenbythesea.org/events/aig" target="_blank">www.gardenbythsea.org</a></strong>.</span></p><p><span style="font-family:georgia\, palatino\;font-size:small\;">This is a not-t0-be-missed event!</span></p>
LOCATION:Mendocino Coast Botanical Gardens Fort Bragg
UID:e.2883.275
SEQUENCE:3
DTSTAMP:20260423T100032Z
URL:https://mendocinocoast.com/events/details/art-in-the-gardens-2014-05-28-2014-275
END:VEVENT

END:VCALENDAR
