BEGIN:VCALENDAR
VERSION:2.0
PRODID:-//ChamberMaster//Event Calendar 2.0//EN
METHOD:PUBLISH
X-PUBLISHED-TTL:P3D
REFRESH-INTERVAL:P3D
CALSCALE:GREGORIAN
BEGIN:VEVENT
DTSTART:20150814T170000Z
DTEND:20150814T210000Z
X-MICROSOFT-CDO-ALLDAYEVENT:FALSE
SUMMARY:Art Explorers Summer Studio Sale!
DESCRIPTION:Original work from 20 artists for under $40! Add to your art collection! Come visit our studio sale Sunday the 6th from 10 to 2 and Monday the 7th from 10 to 2.Â Art Explorers is a creative arts program that serves adults with developmental disabilities on the Mendocino coast.
X-ALT-DESC;FMTTYPE=text/html:<p>Original work from 20 artists for under $40! Add to your art collection! Come visit our studio sale Sunday the 6th from 10 to 2 and Monday the 7th from 10 to 2.Â Art Explorers is a creative arts program that serves adults with developmental disabilities on the Mendocino coast.</p>
LOCATION:305 E. Redwood Ave Fort Bragg
UID:e.2883.707
SEQUENCE:3
DTSTAMP:20260422T064316Z
URL:https://mendocinocoast.com/events/details/art-explorers-summer-studio-sale-08-14-2015-707
END:VEVENT

END:VCALENDAR
