BEGIN:VCALENDAR
VERSION:2.0
PRODID:-//ChamberMaster//Event Calendar 2.0//EN
METHOD:PUBLISH
X-PUBLISHED-TTL:P3D
REFRESH-INTERVAL:P3D
CALSCALE:GREGORIAN
BEGIN:VEVENT
DTSTART:20160724T170100Z
DTEND:20160725T000100Z
X-MICROSOFT-CDO-ALLDAYEVENT:FALSE
SUMMARY:Archaeology
DESCRIPTION:PARTNERS GALLERYARCHAEOLOGYAUGUST 4 - 29FIRST FRIDAY RECEPTION AUGUST 5\, 5-8PMÂ In August Partners Gallery is presenting a show of works in a variety of media that examine the subject of archaeology.Â  Archaeology is the physical mining of the past for clues of human history that illuminate what it means to be human. The explorations of artists in this show include Cycladic figures\, pot shards from digs\, a wooden staff after shamanic traditions and ancient and modern â€œfindsâ€\, as well as clues from pine bark beetle â€œtextsâ€ and strata of ancient iceÂ Partners Gallery is located at 335N. Franklin Street in Fort Bragg and is open Wednesday through Monday 10 am to 5 pm and Sundays 10 am to 4 pm.707 962-0233Â  http://www.partnersgallery.com
X-ALT-DESC;FMTTYPE=text/html:<p>PARTNERS GALLERY</p><p>ARCHAEOLOGY</p><p>AUGUST 4 - 29</p><p>FIRST FRIDAY RECEPTION AUGUST 5\, 5-8PM</p><p>Â </p><p>In August Partners Gallery is presenting a show of works in a variety of media that examine the subject of archaeology.Â  Archaeology is the physical mining of the past for clues of human history that illuminate what it means to be human. The explorations of artists in this show include Cycladic figures\, pot shards from digs\, a wooden staff after shamanic traditions and ancient and modern â€œfindsâ€\, as well as clues from pine bark beetle â€œtextsâ€ and strata of ancient ice</p><p>Â </p><p>Partners Gallery is located at 335N. Franklin Street in Fort Bragg and is open Wednesday through Monday 10 am to 5 pm and Sundays 10 am to 4 pm.</p><p>707 962-0233Â  <a href="http://www.partnersgallery.com">http://www.partnersgallery.com</a>&gt\;</p>
LOCATION:Partners Gallery Fort Bragg
UID:e.2883.979
SEQUENCE:3
DTSTAMP:20260419T143027Z
URL:https://mendocinocoast.com/events/details/archaeology-07-24-2016-979
END:VEVENT

END:VCALENDAR
