BEGIN:VCALENDAR
VERSION:2.0
PRODID:-//ChamberMaster//Event Calendar 2.0//EN
METHOD:PUBLISH
X-PUBLISHED-TTL:P3D
REFRESH-INTERVAL:P3D
CALSCALE:GREGORIAN
BEGIN:VEVENT
DTSTART:20140416T030100Z
DTEND:20140416T050000Z
X-MICROSOFT-CDO-ALLDAYEVENT:FALSE
SUMMARY:April Verch Band: Celtic Style Plus Step-Dancing from Canada: Mendocino Music Festivall
DESCRIPTION:April Verch Band: Extravagant Step-Dancing Style from CanadaThursday\, July 17\, 2014\, 8:00 PMTent Concert Hall - overlooking the Pacific OceanApril Verch specializes in the hybrid heritage of her native Ottawa Valley\, creating North American roots music with fantastic fiddling\, great songwriting\, a terrific band\, and amazing step-dancingâ€”who could ask for more?They have been a major hit with Shetland audiences for years and will set your toes to tapping.  Come see this great group with a Celtic style of song and dance for an exhilarating evening.â€œFrom Canada\, April Verch specializes in the hybrid heritage of her native Ottawa Valley\, most spectacularly in its extravagant step-dancing style\, whichâ€”alongside her skills on fiddle and vocalsâ€”proved a major hit with Shetland audiences.â€  Lifestyle.Scotsman.comThe Mendocino Music Festival runs July 12 - 26.
X-ALT-DESC;FMTTYPE=text/html:April Verch Band: Extravagant Step-Dancing Style from CanadaThursday\, July 17\, 2014\, 8:00 PMTent Concert Hall - overlooking the Pacific OceanApril Verch specializes in the hybrid heritage of her native Ottawa Valley\, creating North American roots music with fantastic fiddling\, great songwriting\, a terrific band\, and amazing step-dancingâ€”who could ask for more?They have been a major hit with Shetland audiences for years and will set your toes to tapping.  Come see this great group with a Celtic style of song and dance for an exhilarating evening.â€œFrom Canada\, April Verch specializes in the hybrid heritage of her native Ottawa Valley\, most spectacularly in its extravagant step-dancing style\, whichâ€”alongside her skills on fiddle and vocalsâ€”proved a major hit with Shetland audiences.â€  Lifestyle.Scotsman.comThe Mendocino Music Festival runs July 12 - 26.
LOCATION:16\,000 square foot Tent Performance Hall Mendocino
UID:e.2883.213
SEQUENCE:3
DTSTAMP:20260423T100328Z
URL:https://mendocinocoast.com/events/details/april-verch-band-celtic-style-plus-step-dancing-from-canada-mendocino-music-festivall-04-15-2014-213
END:VEVENT

END:VCALENDAR
