BEGIN:VCALENDAR
VERSION:2.0
PRODID:-//ChamberMaster//Event Calendar 2.0//EN
METHOD:PUBLISH
X-PUBLISHED-TTL:P3D
REFRESH-INTERVAL:P3D
CALSCALE:GREGORIAN
BEGIN:VEVENT
DTSTART:20140509T170000Z
DTEND:20140509T230700Z
X-MICROSOFT-CDO-ALLDAYEVENT:FALSE
SUMMARY:Antique Appraisal & Silent Auction
DESCRIPTION:Appraisers on-hand to evaluate antiques and silent auction containing many new & used items.
X-ALT-DESC;FMTTYPE=text/html:<p>Appraisers on-hand to evaluate antiques and silent auction containing many new &amp\; used items.</p>
LOCATION:Crown Hall Mendocino
UID:e.2883.261
SEQUENCE:3
DTSTAMP:20260423T100032Z
URL:https://mendocinocoast.com/events/details/antique-appraisal-silent-auction-05-09-2014-261
END:VEVENT

END:VCALENDAR
