BEGIN:VCALENDAR
VERSION:2.0
PRODID:-//ChamberMaster//Event Calendar 2.0//EN
METHOD:PUBLISH
X-PUBLISHED-TTL:P3D
REFRESH-INTERVAL:P3D
CALSCALE:GREGORIAN
BEGIN:VEVENT
DTSTART:20141223T203000Z
DTEND:20141223T230000Z
X-MICROSOFT-CDO-ALLDAYEVENT:FALSE
SUMMARY:Annual Senior Christmas Dinner
DESCRIPTION:The Lion's Club is going to have their annual Senior Christmas Dinner at Lion's Hall on Christmas Day. We will start pouring champagne at 11:30 a.m.\, dinner will be served from 12 p.m. until 2 p.m.
X-ALT-DESC;FMTTYPE=text/html:<p>The Lion's Club is going to have their annual Senior Christmas Dinner at Lion's Hall on Christmas Day. We will start pouring champagne at 11:30 a.m.\, dinner will be served from 12 p.m. until 2 p.m.</p>
LOCATION:Lion's Hall\, 430 East Redwood Street Fort Bragg
UID:e.2883.412
SEQUENCE:3
DTSTAMP:20260422T193419Z
URL:https://mendocinocoast.com/events/details/annual-senior-christmas-dinner-12-23-2014-412
END:VEVENT

END:VCALENDAR
