BEGIN:VCALENDAR
VERSION:2.0
PRODID:-//ChamberMaster//Event Calendar 2.0//EN
METHOD:PUBLISH
X-PUBLISHED-TTL:P3D
REFRESH-INTERVAL:P3D
CALSCALE:GREGORIAN
BEGIN:VEVENT
DTSTART:20150217T180000Z
DTEND:20150218T010000Z
X-MICROSOFT-CDO-ALLDAYEVENT:FALSE
SUMMARY:Animal celebration
DESCRIPTION:Join us for a day in the sun celebrating our pets and animals. Learn about local resources and rescue groups\, visit with the animal communicator\, get a photo taken with your pet\, ride a horse and let your pet show off in the talent contest or compete for the most uniquely dressed pet!More information: www.mendocinohumane.org
X-ALT-DESC;FMTTYPE=text/html:<p>Join us for a day in the sun celebrating our pets and animals. Learn about local resources and rescue groups\, visit with the animal communicator\, get a photo taken with your pet\, ride a horse and let your pet show off in the talent contest or compete for the most uniquely dressed pet!</p><p>More information: <a href="http://www.mendocinohumane.org" target="_blank">www.mendocinohumane.org</a></p>
LOCATION:Mendocino Humane Society Fort Bragg\, CA
UID:e.2883.523
SEQUENCE:3
DTSTAMP:20260422T150045Z
URL:https://mendocinocoast.com/events/details/animal-celebration-02-17-2015-523
END:VEVENT

END:VCALENDAR
