BEGIN:VCALENDAR
VERSION:2.0
PRODID:-//ChamberMaster//Event Calendar 2.0//EN
METHOD:PUBLISH
X-PUBLISHED-TTL:P3D
REFRESH-INTERVAL:P3D
CALSCALE:GREGORIAN
BEGIN:VEVENT
DTSTART:20140222T210000Z
DTEND:20140223T010000Z
X-MICROSOFT-CDO-ALLDAYEVENT:FALSE
SUMMARY:An Afternoon Kayaking on the Noyo River
DESCRIPTION:Enjoy an afternoon kayaking on the Noyo River and support Books for Babies and Kits for Kindergarten. Â Lounge on our deck over the Noyo River and enjoy baked goods and/or kayak the quiet waters of the Noyo River.This is a family friendly event for all ages and abilities. Â All proceeds go toward Books for Babies and Kits for Kindergarten.Kayak rentals are $20 for adults and $10 for kids.Kayak rentals will be from 1-5pm and are for the estuary section of the Noyo River and not the harbor or ocean.For more information or to reserve a kayak\, please call Cate or Jeff at Liquid Fusion Kayaking(707) 962-1623
X-ALT-DESC;FMTTYPE=text/html:<p>Enjoy an afternoon kayaking on the Noyo River and support Books for Babies and Kits for Kindergarten. Â Lounge on our deck over the Noyo River and enjoy baked goods and/or kayak the quiet waters of the Noyo River.</p><p>This is a family friendly event for all ages and abilities. Â All proceeds go toward Books for Babies and Kits for Kindergarten.</p><p>Kayak rentals are $20 for adults and $10 for kids.</p><p>Kayak rentals will be from 1-5pm and are for the estuary section of the Noyo River and not the harbor or ocean.</p><p>For more information or to reserve a kayak\, please call Cate or Jeff at Liquid Fusion Kayaking</p><p>(707) 962-1623</p>
LOCATION:Noyo River Fort Bragg
UID:e.2883.145
SEQUENCE:3
DTSTAMP:20260423T131842Z
URL:https://mendocinocoast.com/events/details/an-afternoon-kayaking-on-the-noyo-river-02-22-2014-145
END:VEVENT

END:VCALENDAR
