BEGIN:VCALENDAR
VERSION:2.0
PRODID:-//ChamberMaster//Event Calendar 2.0//EN
METHOD:PUBLISH
X-PUBLISHED-TTL:P3D
REFRESH-INTERVAL:P3D
CALSCALE:GREGORIAN
BEGIN:VEVENT
DTSTART:20160315T170100Z
DTEND:20160315T230000Z
X-MICROSOFT-CDO-ALLDAYEVENT:FALSE
SUMMARY:"All Things Plant Life" Juried Show
DESCRIPTION:â€œALL THINGS PLANT LIFEâ€Â LORRIE FINK - PAINTINGSTANYA LIN - PHOTOGRAPHYHOPI BRETON â€“ SCULPTUREÂ MARCH 31 â€“ MAY 1FIRST FRIDAY RECEPTION APRIL 1\, 5-8pmÂ Partners Gallery is proud to present three artists selected by curator Carrie Lederer for this juried show: â€œAll Things Plant Lifeâ€.Â  Ms. Lederer is a widely respected artist and curator\, presently at the Bedford Gallery in Walnut Creek.Â Sculptor Hopi Breton is interested in the spiritual realm of landscape and seeks to connect human activity to the natural world. Using clothespins\, feathers\, root bulbs etc she combines the natural and the human made in spare and evocative works.Â Lorrie Finkâ€˜s oil paintings depict abstracted interpretations of Corn Lilies and other native perennials\, distilling the attitudes and expressiveness of botanical forms to suggest aerial views\, geologic patterns\, and biomorphic shapes.Â In combining food and multicolored fires\, photographer Tanya Lin seeks to engulf but not consume organically earth grown plants we call food. Photographs of cauliflower and lemons are inspired by images of The Sacred Heart of Jesus emanating flames and rays.Â Partners Gallery is open Wednesday through Monday 10 am to 5 pm and Sundays 10 am to 4 pm.
X-ALT-DESC;FMTTYPE=text/html:<p>â€œALL THINGS PLANT LIFEâ€</p><p>Â </p><p>LORRIE FINK - PAINTINGS</p><p>TANYA LIN - PHOTOGRAPHY</p><p>HOPI BRETON â€“ SCULPTURE</p><p>Â </p><p>MARCH 31 â€“ MAY 1</p><p>FIRST FRIDAY RECEPTION APRIL 1\, 5-8pm</p><p>Â </p><p>Partners Gallery is proud to present three artists selected by curator Carrie Lederer for this juried show: â€œAll Things Plant Lifeâ€.Â  Ms. Lederer is a widely respected artist and curator\, presently at the Bedford Gallery in Walnut Creek.</p><p>Â </p><p>Sculptor Hopi Breton is interested in the spiritual realm of landscape and seeks to connect human activity to the natural world. Using clothespins\, feathers\, root bulbs etc she combines the natural and the human made in spare and evocative works.</p><p>Â </p><p>Lorrie Finkâ€˜s oil paintings depict abstracted interpretations of Corn Lilies and other native perennials\, distilling the attitudes and expressiveness of botanical forms to suggest aerial views\, geologic patterns\, and biomorphic shapes.</p><p>Â </p><p>In combining food and multicolored fires\, photographer Tanya Lin seeks to engulf but not consume organically earth grown plants we call food. Photographs of cauliflower and lemons are inspired by images of The Sacred Heart of Jesus emanating flames and rays.</p><p>Â </p><p>Partners Gallery is open Wednesday through Monday 10 am to 5 pm and Sundays 10 am to 4 pm.</p>
LOCATION:Partners Gallery Fort Bragg
UID:e.2883.874
SEQUENCE:3
DTSTAMP:20260421T192410Z
URL:https://mendocinocoast.com/events/details/all-things-plant-life-juried-show-03-15-2016-874
END:VEVENT

END:VCALENDAR
