BEGIN:VCALENDAR
VERSION:2.0
PRODID:-//ChamberMaster//Event Calendar 2.0//EN
METHOD:PUBLISH
X-PUBLISHED-TTL:P3D
REFRESH-INTERVAL:P3D
CALSCALE:GREGORIAN
BEGIN:VEVENT
DTSTART:20140507T230000Z
DTEND:20140508T000000Z
X-MICROSOFT-CDO-ALLDAYEVENT:FALSE
SUMMARY:Ain't Misbehavin'
DESCRIPTION:Symphony of the Redwoods invites you to join us for the final  fundraiser of the 2013-14 Season for some musical fun Sunday\, May 18\,  4pm-7pm at North Coast Brewing Companyâ€™s Sequoia Room at 444 N Main St\,  Fort Bragg.\n\nThere will be beer\, delicious hors dâ€™oeuvres  and a variety of delicious pizza slices. Ira will provide the  accompaniment. And you and your friends will provide the vocal stylings.\n\nJAZZ! BLUES! BALLADS! Songs youâ€™ve always wanted to sing!\n\nTickets  are $50 and include 1 raffle ticket for our Maui raffle! Raffle prize  is 7 nights (21-27 Feb 2015) in an ocean-view\, 2-bed\, sleeps-six luxury  condo at the Kaâ€™anapali Resort on Maui and includes a $400 travel  stipend. Raffle tickets are available separately for $10 or 3 for $25 or  15 for $100 and you need not be present to win.\n\nRSVP ASAP as space is limited. Alex 707.964.0898 symphony@mcn.org. \nPayment required to book.
X-ALT-DESC;FMTTYPE=text/html:<p><strong>Symphony of the Redwoods invites you to join us for the final  fundraiser of the 2013-14 Season for some musical fun Sunday\, May 18\,  4pm-7pm at North Coast Brewing Companyâ€™s Sequoia Room at 444 N Main St\,  Fort Bragg.</strong><br /><br />There will be beer\, delicious hors dâ€™oeuvres  and a variety of delicious pizza slices. Ira will provide the  accompaniment. And you and your friends will provide the vocal stylings.<br /><br />JAZZ! BLUES! BALLADS! Songs youâ€™ve always wanted to sing!<br /><br />Tickets  are $50 and include 1 raffle ticket for our Maui raffle! Raffle prize  is 7 nights (21-27 Feb 2015) in an ocean-view\, 2-bed\, sleeps-six luxury  condo at the Kaâ€™anapali Resort on Maui and includes a $400 travel  stipend. Raffle tickets are available separately for $10 or 3 for $25 or  15 for $100 and you need not be present to win.<br /><br /><strong>RSVP ASAP as space is limited. Alex 707.964.0898 <a href="mailto:symphony@mcn.org.">symphony@mcn.org.</a> <br /></strong>Payment required to book.</p>
LOCATION:North Coast Brewing Co. Fort Bragg
UID:e.2883.256
SEQUENCE:3
DTSTAMP:20260423T082358Z
URL:https://mendocinocoast.com/events/details/ain-t-misbehavin-05-07-2014-256
END:VEVENT

END:VCALENDAR
