BEGIN:VCALENDAR
VERSION:2.0
PRODID:-//ChamberMaster//Event Calendar 2.0//EN
METHOD:PUBLISH
X-PUBLISHED-TTL:P3D
REFRESH-INTERVAL:P3D
CALSCALE:GREGORIAN
BEGIN:VEVENT
DTSTART:20141229T230000Z
DTEND:20141230T020000Z
X-MICROSOFT-CDO-ALLDAYEVENT:FALSE
SUMMARY:Afternoon Jazz Jam at Headlands Coffeehouse
DESCRIPTION:Enjoy delicious food and drink in Fort Bragg with family and friends. Join local artist Lynn Kiesewetter and other talent-ed musicians for Jazz Jam from 2-5 p.m. Headlands Coffeehouse\, 120 Laurel Street\, Fort Bragg. 707.964.1987 www.headlandscoffeehouse.com
X-ALT-DESC;FMTTYPE=text/html:<p>Enjoy delicious food and drink in Fort Bragg with family and friends. Join local artist Lynn Kiesewetter and other talent-ed musicians for Jazz Jam from 2-5 p.m. Headlands Coffeehouse\, 120 Laurel Street\, Fort Bragg. 707.964.1987 www.headlandscoffeehouse.com</p>
LOCATION:Headlands Coffehouse Fort Bragg CA
UID:e.2883.414
SEQUENCE:3
DTSTAMP:20260422T182218Z
URL:https://mendocinocoast.com/events/details/afternoon-jazz-jam-at-headlands-coffeehouse-12-29-2014-414
END:VEVENT

END:VCALENDAR
