BEGIN:VCALENDAR
VERSION:2.0
PRODID:-//ChamberMaster//Event Calendar 2.0//EN
METHOD:PUBLISH
X-PUBLISHED-TTL:P3D
REFRESH-INTERVAL:P3D
CALSCALE:GREGORIAN
BEGIN:VEVENT
DTSTART:20150227T100000Z
DTEND:20150227T120000Z
X-MICROSOFT-CDO-ALLDAYEVENT:FALSE
SUMMARY:Acrobatic Conundrum's "The Language of Chance\, An Evening of Circus"
DESCRIPTION:Seattle-based Acrobatic Conundrumâ€™s performance piece blurs the lines between dance\, theater\, and circus and offers thrilling circus aerial and acrobatics\, delightful clowning\, and intriguing physical theatre. Â Inspired by author Jorge Luis Borgesâ€™ magical realist tale\, The Library of Babel\, the show consists of two works created exclusively for this talented troupe: Â "A Book is Not a Ladderâ€ by choreographer and director KT Niehoff and "Secret Passages" by UMO Ensemble Executive Artist Elizabeth Klob.Â  Itâ€™s a show that is sure to charm and fascinate audiences of all stripes. The event is co-sponsored by Circus MeCCA.
X-ALT-DESC;FMTTYPE=text/html:<p>Seattle-based Acrobatic Conundrumâ€™s performance piece blurs the lines between dance\, theater\, and circus and offers thrilling circus aerial and acrobatics\, delightful clowning\, and intriguing physical theatre. Â Inspired by author Jorge Luis Borgesâ€™ magical realist tale\, The Library of Babel\, the show consists of two works created exclusively for this talented troupe: Â "A Book is Not a Ladderâ€ by choreographer and director KT Niehoff and "Secret Passages" by UMO Ensemble Executive Artist Elizabeth Klob.Â  Itâ€™s a show that is sure to charm and fascinate audiences of all stripes. The event is co-sponsored by Circus MeCCA.</p>
LOCATION:Cotton Auditorium Fort Bragg
UID:e.2883.554
SEQUENCE:3
DTSTAMP:20260422T151606Z
URL:https://mendocinocoast.com/events/details/acrobatic-conundrum-s-the-language-of-chance-an-evening-of-circus-02-27-2015-554
END:VEVENT

END:VCALENDAR
