BEGIN:VCALENDAR
VERSION:2.0
PRODID:-//ChamberMaster//Event Calendar 2.0//EN
METHOD:PUBLISH
X-PUBLISHED-TTL:P3D
REFRESH-INTERVAL:P3D
CALSCALE:GREGORIAN
BEGIN:VEVENT
DTSTART;VALUE=DATE:20140227
DTEND;VALUE=DATE:20140228
TRANSP:TRANSPARENT
X-MICROSOFT-CDO-ALLDAYEVENT:TRUE
SUMMARY:ACOUSTIC BLUES GUITAR CONCERT
DESCRIPTION:ACOUSTIC BLUES GUITAR CONCERT\nSinger songwriter J.L. Stiles headlines an evening of acoustic blues to benefit the Community Center of Mendocino\, Friday\, March 7\, at 7pm\, at 998 School Street in Mendocino. Â Â Also performing\, folk-blues guitar wizard John Brandeburg\, Ragtime Rich Blaufeld with Papa Charlie Greenberg and friends\, the Shaky Jake Blues Band\, Busy Bees Blues band\, and Hittinâ€™ the Jug. Â Suggested donation $15. Â BBQ ribs from the Q will be available at 6:30pm. Â Getâ€™m while they last!
X-ALT-DESC;FMTTYPE=text/html:<p><blockquote><div>ACOUSTIC BLUES GUITAR CONCERT<br />Singer songwriter J.L. Stiles headlines an evening of acoustic blues to benefit the Community Center of Mendocino\, Friday\, March 7\, at 7pm\, at 998 School Street in Mendocino. Â Â Also performing\, folk-blues guitar wizard John Brandeburg\, Ragtime Rich Blaufeld with Papa Charlie Greenberg and friends\, the Shaky Jake Blues Band\, Busy Bees Blues band\, and Hittinâ€™ the Jug. Â Suggested donation $15. Â BBQ ribs from the Q will be available at 6:30pm. Â Getâ€™m while they last!</div></blockquote></p>
LOCATION:Community Center of Mendocino
UID:e.2883.158
SEQUENCE:3
DTSTAMP:20260423T131841Z
URL:https://mendocinocoast.com/events/details/acoustic-blues-guitar-concert-02-27-2014-158
END:VEVENT

END:VCALENDAR
