BEGIN:VCALENDAR
VERSION:2.0
PRODID:-//ChamberMaster//Event Calendar 2.0//EN
METHOD:PUBLISH
X-PUBLISHED-TTL:P3D
REFRESH-INTERVAL:P3D
CALSCALE:GREGORIAN
BEGIN:VEVENT
DTSTART;VALUE=DATE:20140814
DTEND;VALUE=DATE:20140815
TRANSP:TRANSPARENT
X-MICROSOFT-CDO-ALLDAYEVENT:TRUE
SUMMARY:Acoustic Blues Concert & Workshop
DESCRIPTION:Blues concert and workshops with Acoustic Blues giant Bernie Pearl and bassist Mike Barry.
X-ALT-DESC;FMTTYPE=text/html:<p>Blues concert and workshops with Acoustic Blues giant Bernie Pearl and bassist Mike Barry.</p>
LOCATION:Community Center of Mendocino
UID:e.2883.310
SEQUENCE:3
DTSTAMP:20260423T010916Z
URL:https://mendocinocoast.com/events/details/acoustic-blues-concert-workshop-08-14-2014-310
END:VEVENT

END:VCALENDAR
