BEGIN:VCALENDAR
VERSION:2.0
PRODID:-//ChamberMaster//Event Calendar 2.0//EN
METHOD:PUBLISH
X-PUBLISHED-TTL:P3D
REFRESH-INTERVAL:P3D
CALSCALE:GREGORIAN
BEGIN:VEVENT
DTSTART:20150217T210000Z
DTEND:20150218T000000Z
X-MICROSOFT-CDO-ALLDAYEVENT:FALSE
SUMMARY:A Taste of Chocolate\, Wine & Ale
DESCRIPTION:A Taste of Chocolate\, Wine & AleThe Mendocino Music Festival and the Mendocino Art Center invite you to an enjoyable afternoon of delicious\, artisanal food\, wine and ale from Mendocino County.The Mendocino Art Center presents A Taste of Chocolate\, Wine and Ale\, an enjoyable afternoon of exceptional food\, wine and ale samples from selection of the finest wineries\, breweries and food purveyors from Mendocino County and beyond. This is a tasty way to spend your Memorial Day Weekend in Mendocino while listening to live music and perusing the Silent Auction where you can bid on Mendocino County food and wine products to take home.More information: www.mendocinoartcenter.org
X-ALT-DESC;FMTTYPE=text/html:<p>A Taste of Chocolate\, Wine &amp\; Ale</p><p>The Mendocino Music Festival and the Mendocino Art Center invite you to an enjoyable afternoon of delicious\, artisanal food\, wine and ale from Mendocino County.</p><p>The Mendocino Art Center presents A Taste of Chocolate\, Wine and Ale\, an enjoyable afternoon of exceptional food\, wine and ale samples from selection of the finest wineries\, breweries and food purveyors from Mendocino County and beyond. This is a tasty way to spend your Memorial Day Weekend in Mendocino while listening to live music and perusing the Silent Auction where you can bid on Mendocino County food and wine products to take home.</p><p>More information: <a href="http://www.mendocinoartcenter.org" target="_blank">www.mendocinoartcenter.org</a></p>
LOCATION:Mendocino Art Center Mendocino\, CA
UID:e.2883.520
SEQUENCE:3
DTSTAMP:20260422T151052Z
URL:https://mendocinocoast.com/events/details/a-taste-of-chocolate-wine-ale-02-17-2015-520
END:VEVENT

END:VCALENDAR
