BEGIN:VCALENDAR
VERSION:2.0
PRODID:-//ChamberMaster//Event Calendar 2.0//EN
METHOD:PUBLISH
X-PUBLISHED-TTL:P3D
REFRESH-INTERVAL:P3D
CALSCALE:GREGORIAN
BEGIN:VEVENT
DTSTART:20150618T220000Z
DTEND:20150619T020000Z
X-MICROSOFT-CDO-ALLDAYEVENT:FALSE
SUMMARY:"A Summer Visit - Partners Gallery Artists at Glendeven
DESCRIPTION:A SUMMER VISIT:PARTNERS GALLERY ARTISTS AT GLENDEVEN INNÂ July 1 to Aug 31\, 2015Second Saturday Reception Aug 8\, 6-7pmÂ The artists of Partners Gallery are pleased to be showing again at their former home at the Glendeven Inn in Little River. Works by gallery artists include watercolors of succulent plants\, John Cage lantern slides\, abstract paintings\, manzanita wood sculptures\, folded paper constructions\, sculpture of natural materials\, charcoal drawings on handmade paper\, mixed media pieces and more.Â Glendeven Inn is located at 8205 N. Highway 1 in Little RiverThe show can be viewed daily from 3-7pm. tel 707 937-0083. The gallery can be reached at 707 962-0233 Â http://www.partnersgallery.com www.glendeven.com
X-ALT-DESC;FMTTYPE=text/html:<p>A SUMMER VISIT:</p><p>PARTNERS GALLERY ARTISTS AT GLENDEVEN INN</p><p>Â </p><p>July 1 to Aug 31\, 2015</p><p>Second Saturday Reception Aug 8\, 6-7pm</p><p>Â </p><p>The artists of Partners Gallery are pleased to be showing again at their former home at the Glendeven Inn in Little River. Works by gallery artists include watercolors of succulent plants\, John Cage lantern slides\, abstract paintings\, manzanita wood sculptures\, folded paper constructions\, sculpture of natural materials\, charcoal drawings on handmade paper\, mixed media pieces and more.</p><p>Â </p><p>Glendeven Inn is located at 8205 N. Highway 1 in Little River</p><p>The show can be viewed daily from 3-7pm. tel 707 937-0083. The gallery can be reached at 707 962-0233 Â <span style="text-decoration: underline\;"><a href="http://www.partnersgallery.com">http://www.partnersgallery.com</a></span>&gt\;</p><p>www.glendeven.com</p>
LOCATION:Glendeven Inn Little River
UID:e.2883.654
SEQUENCE:3
DTSTAMP:20260422T101554Z
URL:https://mendocinocoast.com/events/details/a-summer-visit-partners-gallery-artists-at-glendeven-06-18-2015-654
END:VEVENT

END:VCALENDAR
