BEGIN:VCALENDAR
VERSION:2.0
PRODID:-//ChamberMaster//Event Calendar 2.0//EN
METHOD:PUBLISH
X-PUBLISHED-TTL:P3D
REFRESH-INTERVAL:P3D
CALSCALE:GREGORIAN
BEGIN:VEVENT
DTSTART:20150322T000000Z
DTEND:20150322T020000Z
X-MICROSOFT-CDO-ALLDAYEVENT:FALSE
SUMMARY:A Life in Art
DESCRIPTION:In memory of and a tribute to Jim Larsen & Olaf Palm.The Gallery at The Restaurant presents an Exhibit and Sale of Paintings by Olaf Palm. Â The public ia cordially invited to a rception on First Friday\, April 3\, 2015 from 5-8pm. Â Live music provided by Lost Johnson Productions. Â Exhibit runs April 2-12 and April 23-27
X-ALT-DESC;FMTTYPE=text/html:<p>In memory of and a tribute to Jim Larsen &amp\; Olaf Palm.</p><p>The Gallery at The Restaurant presents an Exhibit and Sale of Paintings by Olaf Palm. Â The public ia cordially invited to a rception on First Friday\, April 3\, 2015 from 5-8pm. Â Live music provided by Lost Johnson Productions. Â Exhibit runs April 2-12 and April 23-27</p>
LOCATION:The Restaurant Fort Bragg
UID:e.2883.569
SEQUENCE:3
DTSTAMP:20260422T145638Z
URL:https://mendocinocoast.com/events/details/a-life-in-art-03-21-2015-569
END:VEVENT

END:VCALENDAR
