BEGIN:VCALENDAR
VERSION:2.0
PRODID:-//ChamberMaster//Event Calendar 2.0//EN
METHOD:PUBLISH
X-PUBLISHED-TTL:P3D
REFRESH-INTERVAL:P3D
CALSCALE:GREGORIAN
BEGIN:VEVENT
DTSTART:20140518T220000Z
DTEND:20140519T020000Z
X-MICROSOFT-CDO-ALLDAYEVENT:FALSE
SUMMARY:A Kayaking Afternoon on the River
DESCRIPTION:Enjoy an afternoon kayaking on Fort Braggs Noyo River and support literacy and learning. All proceeds benefit Books for Babies and Kits for Kindergarten.
X-ALT-DESC;FMTTYPE=text/html:<p>Enjoy an afternoon kayaking on Fort Braggs Noyo River and support literacy and learning. All proceeds benefit Books for Babies and Kits for Kindergarten.</p>
LOCATION:Dolphin Isle Marina Mendocino
UID:e.2883.36
SEQUENCE:3
DTSTAMP:20260423T100031Z
URL:https://mendocinocoast.com/events/details/a-kayaking-afternoon-on-the-river-05-18-2014-36
END:VEVENT

END:VCALENDAR
