BEGIN:VCALENDAR
VERSION:2.0
PRODID:-//ChamberMaster//Event Calendar 2.0//EN
METHOD:PUBLISH
X-PUBLISHED-TTL:P3D
REFRESH-INTERVAL:P3D
CALSCALE:GREGORIAN
BEGIN:VEVENT
DTSTART:20140414T220000Z
DTEND:20140414T233000Z
X-MICROSOFT-CDO-ALLDAYEVENT:FALSE
SUMMARY:A Capella Fever at Mendocino Music Festivall
DESCRIPTION:A Capella FeverWednesday\, July 16\, 2014\, 3:00 PMMatheson Performing Arts Center at Mendocino High SchoolThe Mendocino coast is home to several excellent small a capella groups\, all singing for the pure love of it while holding down their day jobs.  Menâ€™s Acafellas\, womenâ€™s In the Mix\, womenâ€™s trio River\, and SATB Sine Nomine will sing music from four centuries\, everything from do-wop\, to gospel\, to hit tunes from the â€˜40s\, to madrigals.The singers in A Capella Fever all were inspired by the House Jackâ€™s workshop last year. As House Jacks member Deke Sharon put it\, â€œYou want to touch peopleâ€™s hearts\, grab their souls\, and take them on a wild roller coaster ride through truth and beauty.â€The Mendocino Music Festival runs July 12 - 26.
X-ALT-DESC;FMTTYPE=text/html:A Capella FeverWednesday\, July 16\, 2014\, 3:00 PMMatheson Performing Arts Center at Mendocino High SchoolThe Mendocino coast is home to several excellent small a capella groups\, all singing for the pure love of it while holding down their day jobs.  Menâ€™s Acafellas\, womenâ€™s In the Mix\, womenâ€™s trio River\, and SATB Sine Nomine will sing music from four centuries\, everything from do-wop\, to gospel\, to hit tunes from the â€˜40s\, to madrigals.The singers in A Capella Fever all were inspired by the House Jackâ€™s workshop last year. As House Jacks member Deke Sharon put it\, â€œYou want to touch peopleâ€™s hearts\, grab their souls\, and take them on a wild roller coaster ride through truth and beauty.â€The Mendocino Music Festival runs July 12 - 26.
LOCATION:Matheson Performing Arts Center: Mendocino High Schooll
UID:e.2883.210
SEQUENCE:3
DTSTAMP:20260423T100542Z
URL:https://mendocinocoast.com/events/details/a-capella-fever-at-mendocino-music-festivall-04-14-2014-210
END:VEVENT

END:VCALENDAR
