BEGIN:VCALENDAR
VERSION:2.0
PRODID:-//ChamberMaster//Event Calendar 2.0//EN
METHOD:PUBLISH
X-PUBLISHED-TTL:P3D
REFRESH-INTERVAL:P3D
CALSCALE:GREGORIAN
BEGIN:VEVENT
DTSTART:20160729T040000Z
DTEND:20160729T083000Z
X-MICROSOFT-CDO-ALLDAYEVENT:FALSE
SUMMARY:97th Annual Fireman's Ball
DESCRIPTION:Music Provided by Highway One - Bar Service Available - Must be 21 & Over to Attend$10 per person - Free Rides Home
X-ALT-DESC;FMTTYPE=text/html:<p>Music Provided by Highway One - Bar Service Available - Must be 21 &amp\; Over to Attend</p><p>$10 per person - Free Rides Home</p>
LOCATION:Pentecost Hall-822 Stewart Street Fort Bragg
UID:e.2883.985
SEQUENCE:3
DTSTAMP:20260419T141703Z
URL:https://mendocinocoast.com/events/details/97th-annual-fireman-s-ball-07-28-2016-985
END:VEVENT

END:VCALENDAR
