BEGIN:VCALENDAR
VERSION:2.0
PRODID:-//ChamberMaster//Event Calendar 2.0//EN
METHOD:PUBLISH
X-PUBLISHED-TTL:P3D
REFRESH-INTERVAL:P3D
CALSCALE:GREGORIAN
BEGIN:VEVENT
DTSTART:20150710T040000Z
DTEND:20150710T083000Z
X-MICROSOFT-CDO-ALLDAYEVENT:FALSE
SUMMARY:96th Annual Firemans Ball
DESCRIPTION:The Dance starts at 9 and continues until 1:30 amThere will be alcohol served including local North Coast Brewery Beer\, so the event is limited to those 21 years of age or older.
X-ALT-DESC;FMTTYPE=text/html:<p>The Dance starts at 9 and continues until 1:30 am</p><p>There will be alcohol served including local North Coast Brewery Beer\, so the event is limited to those 21 years of age or older.</p>
LOCATION:Pentecost Hall Fort Bragg
UID:e.2883.686
SEQUENCE:3
DTSTAMP:20260422T064316Z
URL:https://mendocinocoast.com/events/details/96th-annual-firemans-ball-07-09-2015-686
END:VEVENT

END:VCALENDAR
