BEGIN:VCALENDAR
VERSION:2.0
PRODID:-//ChamberMaster//Event Calendar 2.0//EN
METHOD:PUBLISH
X-PUBLISHED-TTL:P3D
REFRESH-INTERVAL:P3D
CALSCALE:GREGORIAN
BEGIN:VEVENT
DTSTART:20150219T180000Z
DTEND:20150220T010000Z
X-MICROSOFT-CDO-ALLDAYEVENT:FALSE
SUMMARY:7th Annual Gualala Arts Auto Show
DESCRIPTION:Saturday\, July 18\, 2015\n10:00 a.m. - 5:00 p.m.\nat the Gualala Arts CenterIf you are a car enthusiast and love the nostalgia of old cars\, the sound and fury of dragsters\, the art of hot rods\, customs and modifieds\, looking at original cars you lusted after in your youth\, and/or rare and unusual contemporary automobiles\, you'll love the Gualala Arts Auto Show. Located on the beautifully landscaped grounds of the Gualala Arts Center\, this is a car show you can actually stroll through\, talk to the owners and appreciate each car\, truck or motorcycle for the piece of art it is. The event celebrates its 7th Anniversary this year and we expect it to be the best Gualala Arts Auto Show yet.Part of the charm of this show is the incredible drive to get here\, driving along the sparkling Pacific Ocean on one side and the majesty of the coastal redwood forests on the other. This Auto Show was extremely well received last year and once again auto buffs will fill Highway 1 for the run to Gualala. This free to the public show opens Saturday\, July 18th at 10:00 a.m. for the public and closes at 5:00 p.m. after the completion of the awards ceremony. Continental breakfast will be available for purchase on the Gualala Arts Center grounds from 7:00 a.m. to 10:00 a.m.\, lunch - including the popular build-your-own wood fired pizzas - will be available for purchase from 11:00 a.m. to close and beverages (wine\, beer\, soft) are available all day. The awards ceremony begins at 3:30 p.m. Music and entertainment goes on all day. If you have a car\, truck or motorcycle that would look good driving up the coast and parked under the redwoods\, download theÂ registration form and send it in beforeÂ June 15Auto Show Featured GuestIn 2014 the Auto Show featured guest was painter and builder extraordinaire\,Â Art Himsl. We were honored to have eight rolling examples of Art's artistry at the show\, including the 1932 Ford Roadster owned by the renowned Andy Brizio. We are in the process of determining who this year's featured guest will be\, but we expect him to be a well-known and longtime participant in the automotive scene. Check back for updates on the featured guestMore information: www.gualalaarts.org
X-ALT-DESC;FMTTYPE=text/html:<p><strong>Saturday\, July 18\, 2015<br />10:00 a.m. - 5:00 p.m.<br />at the Gualala Arts Center</strong></p><div><span style="color: #081000\; font-family: arial\, sans-serif\; font-size: 14px\; line-height: 15px\;"><strong><p>If you are a car enthusiast and love the nostalgia of old cars\, the sound and fury of dragsters\, the art of hot rods\, customs and modifieds\, looking at original cars you lusted after in your youth\, and/or rare and unusual contemporary automobiles\, you'll love the Gualala Arts Auto Show. Located on the beautifully landscaped grounds of the Gualala Arts Center\, this is a car show you can actually stroll through\, talk to the owners and appreciate each car\, truck or motorcycle for the piece of art it is. The event celebrates its 7th Anniversary this year and we expect it to be the best Gualala Arts Auto Show yet.</p></strong></span></div><div><span style="color: #081000\; font-family: arial\, sans-serif\; font-size: 14px\; line-height: 15px\;"><strong>Part of the charm of this show is the incredible drive to get here\, driving along the sparkling Pacific Ocean on one side and the majesty of the coastal redwood forests on the other. This Auto Show was extremely well received last year and once again auto buffs will fill Highway 1 for the run to Gualala. This free to the public show opens Saturday\, July 18th at 10:00 a.m. for the public and closes at 5:00 p.m. after the completion of the awards ceremony. Continental breakfast will be available for purchase on the Gualala Arts Center grounds from 7:00 a.m. to 10:00 a.m.\, lunch - including the popular build-your-own wood fired pizzas - will be available for purchase from 11:00 a.m. to close and beverages (wine\, beer\, soft) are available all day. The awards ceremony begins at 3:30 p.m. Music and entertainment goes on all day. If you have a car\, truck or motorcycle that would look good driving up the coast and parked under the redwoods\, download theÂ <a href="http://www.gualalaarts.org/Forms/2015-07AutoShow.pdf">registration form</a> and send it in beforeÂ <span><strong>June 15</strong></span></strong></span></div><div><span style="color: #081000\; font-family: arial\, sans-serif\; font-size: 14px\; line-height: 15px\;"><strong><span><strong><h2>Auto Show Featured Guest</h2><p>In 2014 the Auto Show featured guest was painter and builder extraordinaire\,Â <strong>Art Himsl</strong>. We were honored to have eight rolling examples of Art's artistry at the show\, including the 1932 Ford Roadster owned by the renowned Andy Brizio. We are in the process of determining who this year's featured guest will be\, but we expect him to be a well-known and longtime participant in the automotive scene. Check back for updates on the featured guest</p></strong></span></strong></span></div><div><span style="color: #081000\; font-family: arial\, sans-serif\; font-size: 14px\; line-height: 15px\;"><strong><span><strong>More information: <a href="http://www.gualalaarts.org" target="_blank">www.gualalaarts.org</a></strong></span></strong></span></div>
LOCATION:Gualala Art Center
UID:e.2883.534
SEQUENCE:3
DTSTAMP:20260422T152111Z
URL:https://mendocinocoast.com/events/details/7th-annual-gualala-arts-auto-show-02-19-2015-534
END:VEVENT

END:VCALENDAR
