BEGIN:VCALENDAR
VERSION:2.0
PRODID:-//ChamberMaster//Event Calendar 2.0//EN
METHOD:PUBLISH
X-PUBLISHED-TTL:P3D
REFRESH-INTERVAL:P3D
CALSCALE:GREGORIAN
BEGIN:VEVENT
DTSTART:20150409T170000Z
DTEND:20150409T210000Z
X-MICROSOFT-CDO-ALLDAYEVENT:FALSE
SUMMARY:72nd Annual Stonyford Rodeo
DESCRIPTION:Join us for theÂ 72nd Annual Stonyford Rodeo!Saturday\, May 2\nRodeo Starts 1pm\nGates Open 11amSunday\, May 3\nRodeo Starts 12pm\nGates open at 10amPurchase tickets online:Â www.stonycreekhorsemen.orgNO Ice chest\, bottles\, cans or dogs permitted through the gate
X-ALT-DESC;FMTTYPE=text/html:<p>Join us for theÂ 72nd Annual Stonyford Rodeo!</p><p>Saturday\, May 2<br />Rodeo Starts 1pm<br />Gates Open 11am</p><p>Sunday\, May 3<br />Rodeo Starts 12pm<br />Gates open at 10am</p><p>Purchase tickets online:Â <a href="http://www.stonycreekhorsemen.org" target="_blank">www.stonycreekhorsemen.org</a></p><p>NO Ice chest\, bottles\, cans or dogs permitted through the gate</p>
LOCATION:Stony Creek Stonyford
UID:e.2883.595
SEQUENCE:3
DTSTAMP:20260422T115029Z
URL:https://mendocinocoast.com/events/details/72nd-annual-stonyford-rodeo-04-09-2015-595
END:VEVENT

END:VCALENDAR
