BEGIN:VCALENDAR
VERSION:2.0
PRODID:-//ChamberMaster//Event Calendar 2.0//EN
METHOD:PUBLISH
X-PUBLISHED-TTL:P3D
REFRESH-INTERVAL:P3D
CALSCALE:GREGORIAN
BEGIN:VEVENT
DTSTART:20151009T210000Z
DTEND:20151009T233000Z
X-MICROSOFT-CDO-ALLDAYEVENT:FALSE
SUMMARY:6th Annual Mendocino County Museum Heritage Lunch
DESCRIPTION:On Saturday\, November 7\, 1:00 pm\, join the Mendocino County Museum for the 6th Annual Heritage Lunch. Celebrate mushroom season with a fabulous mushroom-inspired catered luncheon\, complimentary wine and beer\, and expert speakers. Featuring Glenn Walker\, Biology Instructor at Mendocino College\, The Wild Mushroom Cookbook authors Merry Winslow and Alison Gardner\, and Mark Beaman\, Associate Winemaker at Mendocino Wine Co. Guests will also have the opportunity to view the Museumâ€™s special exhibits on grapes and hops. Price includes free Museum Admission. Tickets are $35 and all proceeds support Museum exhibits\, events and educational programs. For tickets and more information\, visit www.MendocinoMuseum.org or call 459-2736.
X-ALT-DESC;FMTTYPE=text/html:<p>On Saturday\, November 7\, 1:00 pm\, join the Mendocino County Museum for the 6<sup>th</sup> Annual Heritage Lunch. Celebrate mushroom season with a fabulous mushroom-inspired catered luncheon\, complimentary wine and beer\, and expert speakers. Featuring Glenn Walker\, Biology Instructor at Mendocino College\, The Wild Mushroom Cookbook authors Merry Winslow and Alison Gardner\, and Mark Beaman\, Associate Winemaker at Mendocino Wine Co. Guests will also have the opportunity to view the Museumâ€™s special exhibits on grapes and hops. Price includes free Museum Admission. Tickets are $35 and all proceeds support Museum exhibits\, events and educational programs. For tickets and more information\, visit <a href="http://www.MendocinoMuseum.org">www.MendocinoMuseum.org</a> or call 459-2736.</p>
LOCATION:Mendocino County Museum Willits
UID:e.2883.747
SEQUENCE:3
DTSTAMP:20260422T021029Z
URL:https://mendocinocoast.com/events/details/6th-annual-mendocino-county-museum-heritage-lunch-10-09-2015-747
END:VEVENT

END:VCALENDAR
