BEGIN:VCALENDAR
VERSION:2.0
PRODID:-//ChamberMaster//Event Calendar 2.0//EN
METHOD:PUBLISH
X-PUBLISHED-TTL:P3D
REFRESH-INTERVAL:P3D
CALSCALE:GREGORIAN
BEGIN:VEVENT
DTSTART:20151109T190000Z
DTEND:20151110T020000Z
X-MICROSOFT-CDO-ALLDAYEVENT:FALSE
SUMMARY:56th Annual Thanksgiving Arts & Crafts Fair
DESCRIPTION:In what has become a north coast tradition\, 35 juried artists and craftspeople from throughout Northern California exhibit original handmade artwork. The Mendocino Art Centerâ€™s galleries and class studios are transformed into a two-day holiday marketplace\, providing residents and visitors a pleasant alternative to hectic\, stressful mall shopping while supporting local and regional artists. Featured will be a wide array of unique\, high quality artwork and gift items\, including handcrafted jewelry\, original paintings\, functional and decorative ceramics\, fiber art and clothing\, handcrafted herbal body care products\, holiday ornaments\, fresh holiday wreaths and more.More information athttp://www.mendocinoartcenter.org/level2/Thanksgiving_Fair.html
X-ALT-DESC;FMTTYPE=text/html:<p>In what has become a north coast tradition\, 35 juried artists and craftspeople from throughout Northern California exhibit original handmade artwork. The Mendocino Art Centerâ€™s galleries and class studios are transformed into a two-day holiday marketplace\, providing residents and visitors a pleasant alternative to hectic\, stressful mall shopping while supporting local and regional artists. Featured will be a wide array of unique\, high quality artwork and gift items\, including handcrafted jewelry\, original paintings\, functional and decorative ceramics\, fiber art and clothing\, handcrafted herbal body care products\, holiday ornaments\, fresh holiday wreaths and more.</p><p>More information at</p><p>http://www.mendocinoartcenter.org/level2/Thanksgiving_Fair.html</p>
LOCATION:Mendocino Art Center
UID:e.2883.782
SEQUENCE:3
DTSTAMP:20260422T001052Z
URL:https://mendocinocoast.com/events/details/56th-annual-thanksgiving-arts-crafts-fair-11-09-2015-782
END:VEVENT

END:VCALENDAR
