BEGIN:VCALENDAR
VERSION:2.0
PRODID:-//ChamberMaster//Event Calendar 2.0//EN
METHOD:PUBLISH
X-PUBLISHED-TTL:P3D
REFRESH-INTERVAL:P3D
CALSCALE:GREGORIAN
BEGIN:VEVENT
DTSTART:20150219T180000Z
DTEND:20150220T010000Z
X-MICROSOFT-CDO-ALLDAYEVENT:FALSE
SUMMARY:56th Annual Mendocino Summer Arts & Crafts Fair
DESCRIPTION:56th ANNUAL SUMMER ARTS AND CRAFTS FAIR\nSaturday & Sunday\, July 18-19\, 10 am â€“ 5 pm\nFree AdmissionFor the 56th consecutive year locals and tourists alike will browse a wide variety of quality artwork at the 50 artisan booths situated outdoors in the Art Center's gardens\, as well as listen to live local music and enjoy festive food and drink while supporting the local artist community.The allure of this art fair is the abundance of one-of-a-kind artwork. Wearable art lovers are always in for a treat\, with an array of handmade jewelry\, as well clothing\, bags and hats. Those looking for something for the home will find ceramics\, wood accessories\, baskets\, gourds\, knives and more. Two-dimensional artwork is always highlighted by stunning photography and paintings\, and additional three-dimensional works often include sculptural pieces and musical instruments.More information and artist application form at www.mendocinoartcenter.org
X-ALT-DESC;FMTTYPE=text/html:<p><span>56th ANNUAL SUMMER ARTS AND CRAFTS FAIR</span><br /><span>Saturday &amp\; Sunday\, July 18-19\, 10 am â€“ 5 pm<br />Free Admission</span></p><p>For the 56th consecutive year locals and tourists alike will browse a wide variety of quality artwork at the 50 artisan booths situated outdoors in the Art Center's gardens\, as well as listen to live local music and enjoy festive food and drink while supporting the local artist community.</p><p>The allure of this art fair is the abundance of one-of-a-kind artwork. Wearable art lovers are always in for a treat\, with an array of handmade jewelry\, as well clothing\, bags and hats. Those looking for something for the home will find ceramics\, wood accessories\, baskets\, gourds\, knives and more. Two-dimensional artwork is always highlighted by stunning photography and paintings\, and additional three-dimensional works often include sculptural pieces and musical instruments.</p><p>More information and artist application form at <a href="http://www.mendocinoartcenter.org" target="_blank">www.mendocinoartcenter.org</a></p>
LOCATION:Mendocino Art Center Mendocino CA
UID:e.2883.532
SEQUENCE:3
DTSTAMP:20260422T164018Z
URL:https://mendocinocoast.com/events/details/56th-annual-mendocino-summer-arts-crafts-fair-02-19-2015-532
END:VEVENT

END:VCALENDAR
