BEGIN:VCALENDAR
VERSION:2.0
PRODID:-//ChamberMaster//Event Calendar 2.0//EN
METHOD:PUBLISH
X-PUBLISHED-TTL:P3D
REFRESH-INTERVAL:P3D
CALSCALE:GREGORIAN
BEGIN:VEVENT
DTSTART:20150322T003000Z
DTEND:20150322T013100Z
X-MICROSOFT-CDO-ALLDAYEVENT:FALSE
SUMMARY:50+ Walking Group
DESCRIPTION:Meets Monday\, Wednesday and Friday From 5:30 pm to 6:30 pm Meet at Bainbridge Park (corner of Laurel and Harrison Streets). We will casually walk to Glass Beach and then back to the park. Anyone age 50 and over is welcome to join us any of the days or all the days. For more info. call 964-4756 to make sure we are walking that day you decide to join. Our times vary due to the seasons and bad weather days we cancel\, so best to call first. ============ from Connie Webb with emailnamesconnie@hotmail.com
X-ALT-DESC;FMTTYPE=text/html:<p>Meets Monday\, Wednesday and Friday From 5:30 pm to 6:30 pm Meet at Bainbridge Park (corner of Laurel and Harrison Streets). We will casually walk to Glass Beach and then back to the park. Anyone age 50 and over is welcome to join us any of the days or all the days. For more info. call 964-4756 to make sure we are walking that day you decide to join. Our times vary due to the seasons and bad weather days we cancel\, so best to call first. ============ from Connie Webb with email<a href="mailto:namesconnie@hotmail.com">namesconnie@hotmail.com</a></p>
LOCATION:Bainbridge Park Fort Bragg
UID:e.2883.567
SEQUENCE:3
DTSTAMP:20260422T145448Z
URL:https://mendocinocoast.com/events/details/50-walking-group-03-21-2015-567
END:VEVENT

END:VCALENDAR
