BEGIN:VCALENDAR
VERSION:2.0
PRODID:-//ChamberMaster//Event Calendar 2.0//EN
METHOD:PUBLISH
X-PUBLISHED-TTL:P3D
REFRESH-INTERVAL:P3D
CALSCALE:GREGORIAN
BEGIN:VEVENT
DTSTART:20260425T010000Z
DTEND:20260425T040000Z
X-MICROSOFT-CDO-ALLDAYEVENT:FALSE
SUMMARY:4th Frey-Days Live Music with Blue Luke
DESCRIPTION:Come enjoy our 4th Frey-Days concert series with creative\, energetic guitarist Blue Luke\, and friends. Music begins at 6:00pm at the Frey Vineyards Tasting Room\, 11700 West RD\, Redwood Valley. Multi-generational fun encouraged with Foosball\, ping-pong\, and board games! Wine by the glass for 21+\, non-alcoholic beverages\, and Falafeel's Good food available for purchase. No outside food or beverages\, please. $5 presale\, $10 at the door Tickets available on our website.
X-ALT-DESC;FMTTYPE=text/html:Come enjoy our 4th Frey-Days concert series with creative\, energetic guitarist Blue Luke\, and friends. Music begins at 6:00pm at the Frey Vineyards Tasting Room\, 11700 West RD\, Redwood Valley. Multi-generational fun encouraged with Foosball\, ping-pong\, and board games! Wine by the glass for 21+\, non-alcoholic beverages\, and Falafeel&rsquo\;s Good food available for purchase. No outside food or beverages\, please. $5 presale\, $10 at the door Tickets available on our website.
LOCATION:Frey Vineyards 11700 West Road Redwood Valley\, CA\, 95470
UID:e.2883.32108
SEQUENCE:3
DTSTAMP:20260422T020409Z
URL:https://mendocinocoast.com/events/details/4th-frey-days-live-music-with-blue-luke-32108
END:VEVENT

END:VCALENDAR
