BEGIN:VCALENDAR
VERSION:2.0
PRODID:-//ChamberMaster//Event Calendar 2.0//EN
METHOD:PUBLISH
X-PUBLISHED-TTL:P3D
REFRESH-INTERVAL:P3D
CALSCALE:GREGORIAN
BEGIN:VEVENT
DTSTART:20150805T210000Z
DTEND:20150806T000000Z
X-MICROSOFT-CDO-ALLDAYEVENT:FALSE
SUMMARY:4th Annual Walk to Take Back our Forests
DESCRIPTION:The Jere Melo Foundation is hosting their 4th annual walk on Saturday 29th August. Â The walk is to honor the memory of Jere Melo and educate the community about the need for safety and environmental health in our forest lands and open space on public and private property. Â This year the walkers will gather at the Fire House before taking the Trolley Bus to the Coastal Trail. Â Walkers will then make their way to Otsuchi Point for a bench dedication before continuing on to the Firehouse for a presentation and tri-tip BBQ. Please join us as we honor Jere and his memory. Â Check in will be between 1:00-2:00pmwww.jeremelofoundation.org
X-ALT-DESC;FMTTYPE=text/html:<p>The Jere Melo Foundation is hosting their 4th annual walk on Saturday 29th August. Â The walk is to honor the memory of Jere Melo and <span>educate the community about the need for safety and environmental health in our forest lands and open space on public and private property. Â This year the walkers will gather at the Fire House before taking the Trolley Bus to the Coastal Trail. Â Walkers will then make their way to Otsuchi Point for a bench dedication before continuing on to the Firehouse for a presentation and tri-tip BBQ. </span></p><p><span>Please join us as we honor Jere and his memory. Â Check in will be between 1:00-2:00pm</span></p><p><span>www.jeremelofoundation.org</span></p>
LOCATION:Fire House Fort Bragg
UID:e.2883.704
SEQUENCE:3
DTSTAMP:20260422T050236Z
URL:https://mendocinocoast.com/events/details/4th-annual-walk-to-take-back-our-forests-08-05-2015-704
END:VEVENT

END:VCALENDAR
