BEGIN:VCALENDAR
VERSION:2.0
PRODID:-//ChamberMaster//Event Calendar 2.0//EN
METHOD:PUBLISH
X-PUBLISHED-TTL:P3D
REFRESH-INTERVAL:P3D
CALSCALE:GREGORIAN
BEGIN:VEVENT
DTSTART:20160216T170000Z
DTEND:20160216T130000Z
X-MICROSOFT-CDO-ALLDAYEVENT:FALSE
SUMMARY:39th Annual John Druecker Memorial Rhododendron Show
DESCRIPTION:CALIFORNIA'S LARGEST RHODODENDRON SHOW! \nJoin us Mother's Day Weekendâ€”May 7 and May 8\, 2016â€”for the 39th Annual John Druecker Memorial Rhododendron Show.Mendocino Coast Botanical Gardens co-sponsors the event with the Noyo Chapter of the American Rhododendron Society. This year's juried show is expected to be one of the largest on the entire Pacific Coast with over 1\,000 entries. The show will feature a cascade of vibrant Rhododendrons\, raffles\, a silent auction\, people's choice awards\,educational displays\, food\, and more! Visitors to the free show will receive a coupon for $1 off admission to the Mendocino Coast Botanical Gardens\, where more than 1\,000 Rhododendrons may be viewed (not all in bloom at once\, as we have early\, mid-season\, and late varieties).Â A large selection ofÂ Rhododendron and other plants will be available for purchase in the big tent and at Nursery on the Plaza.BOUNUS: During the Show weekendÂ you can purchase a Gardens membership for 10% off. Membership has great benefits\, including access to almost 300 gardens nationwide\, through the American Horticultural Society's Reciprocal Admissions Program. \n For more information about the show visit www.gardenbythesea.org/calendar.For an entry form\, go to www.noyochapterars.com.Â
X-ALT-DESC;FMTTYPE=text/html:<p><span style="font-size:medium\;font-family:georgia\, palatino\;"><strong>CALIFORNIA'S LARGEST RHODODENDRON SHOW!</strong></span></p><p><span style="font-family:georgia\, palatino\;"><strong> </strong></span><br /><span style="font-family:georgia\, palatino\;"><em><strong><span style="font-size:medium\;">Join us Mother's Day Weekendâ€”May 7 and May 8\, 2016â€”for the 39th Annual John Druecker Memorial Rhododendron Show.</span></strong></em></span></p><p><span style="font-size:medium\;font-family:georgia\, palatino\;">Mendocino Coast Botanical Gardens co-sponsors the event with the Noyo Chapter of the American Rhododendron Society. This year's juried show is expected to be one of the largest on the entire Pacific Coast with over 1\,000 entries. The show will feature a cascade of vibrant Rhododendrons\, raffles\, a silent auction\, people's choice awards\,educational displays\, food\, and more! Visitors to the free show will receive a coupon for $1 off admission to the Mendocino Coast Botanical Gardens\, where more than 1\,000 Rhododendrons may be viewed (not all in bloom at once\, as we have early\, mid-season\, and late varieties).Â A large selection ofÂ Rhododendron and other plants will be available for purchase in the big tent and at Nursery on the Plaza.</span></p><p><span style="font-size:medium\;font-family:georgia\, palatino\;"><strong>BOUNUS:</strong> <em>During the Show weekendÂ you can p</em><em>urchase a Gardens membership for 10% off</em><em>. Membership has great benefits\, including access to almost 300 gardens nationwide\, through the American Horticultural Society's Reciprocal Admissions Program.</em></span></p><p><span style="font-size:medium\;font-family:georgia\, palatino\;"> <br /> For more information about the show visit www.gardenbythesea.org/calendar.</span></p><p><span style="font-size:medium\;font-family:georgia\, palatino\;">For an entry form\, go to www.noyochapterars.com.</span></p><p>Â </p>
LOCATION:Mendocino Coast Botanical Gardens Fort Bragg
UID:e.2883.854
SEQUENCE:3
DTSTAMP:20260421T192410Z
URL:https://mendocinocoast.com/events/details/39th-annual-john-druecker-memorial-rhododendron-show-02-16-2016-854
END:VEVENT

END:VCALENDAR
