BEGIN:VCALENDAR
VERSION:2.0
PRODID:-//ChamberMaster//Event Calendar 2.0//EN
METHOD:PUBLISH
X-PUBLISHED-TTL:P3D
REFRESH-INTERVAL:P3D
CALSCALE:GREGORIAN
BEGIN:VEVENT
DTSTART:20140510T190000Z
DTEND:20140511T020000Z
X-MICROSOFT-CDO-ALLDAYEVENT:FALSE
SUMMARY:37th Annual John Druecker Rhododendron Show & Plant Sale
DESCRIPTION:The biggest Rhododendron Show in California will be held over Mothers Day Weekend in Ft. Bragg. Come and see thousands of gorgeous flowers. There will be judging\, peoples choice awards\, a silent auction\, food and opportunities to purchase plants on site.
X-ALT-DESC;FMTTYPE=text/html:<p>The biggest Rhododendron Show in California will be held over Mothers Day Weekend in Ft. Bragg. Come and see thousands of gorgeous flowers. There will be judging\, peoples choice awards\, a silent auction\, food and opportunities to purchase plants on site.</p>
LOCATION:Mendocino Coast Botanical Gardens
UID:e.2883.35
SEQUENCE:3
DTSTAMP:20260423T083237Z
URL:https://mendocinocoast.com/events/details/37th-annual-john-druecker-rhododendron-show-plant-sale-05-10-2014-35
END:VEVENT

END:VCALENDAR
