BEGIN:VCALENDAR
VERSION:2.0
PRODID:-//ChamberMaster//Event Calendar 2.0//EN
METHOD:PUBLISH
X-PUBLISHED-TTL:P3D
REFRESH-INTERVAL:P3D
CALSCALE:GREGORIAN
BEGIN:VEVENT
DTSTART:20140128T180000Z
DTEND:20140128T090100Z
X-MICROSOFT-CDO-ALLDAYEVENT:FALSE
SUMMARY:30th.Annual Whale Run & Walk
DESCRIPTION:10K/5K Run\, 5K Competitive Walk\, 5K Fun Walk\, 1/2 mile Kiddie Run\n\n (707) 962-0211\n\n  http://soroptimistfortbraggca.org
X-ALT-DESC;FMTTYPE=text/html:<p>10K/5K Run\, 5K Competitive Walk\, 5K Fun Walk\, 1/2 mile Kiddie Run<br /><br /></p><table border="0" cellspacing="0" cellpadding="0" width="242"><colgroup><col width="242"></col></colgroup> <tbody><tr height="17"><td width="242" height="17">(707) 962-0211<br /><br /> <table border="0" cellspacing="0" cellpadding="0" width="568"><colgroup><col width="568"></col></colgroup> <tbody><tr height="17"><td width="568" height="17">http://soroptimistfortbraggca.org</td></tr></tbody></table></td></tr></tbody></table>
LOCATION:Start/Finish Skunk Train parking lot
UID:e.2883.89
SEQUENCE:3
DTSTAMP:20260423T144809Z
URL:https://mendocinocoast.com/events/details/30th-annual-whale-run-walk-01-28-2014-89
END:VEVENT

END:VCALENDAR
