BEGIN:VCALENDAR
VERSION:2.0
PRODID:-//ChamberMaster//Event Calendar 2.0//EN
METHOD:PUBLISH
X-PUBLISHED-TTL:P3D
REFRESH-INTERVAL:P3D
CALSCALE:GREGORIAN
BEGIN:VEVENT
DTSTART:20150423T030000Z
DTEND:20150423T043000Z
X-MICROSOFT-CDO-ALLDAYEVENT:FALSE
SUMMARY:3 Still Standing: Live on Stage
DESCRIPTION:A special live performance by three San Francisco comedians who are also featured in a documentary film is happening at the Mendocino Film Festival tent on Saturday\, May 30 at 8PM. Join Will Durst\, Larry â€œBubblesâ€ Brown\, and Johnny Steele for a night of laughter\, as the legendary comedians take to the stage. See the comedians perform live as they riff on clips from 3 Still Standing\, weaving together film and stand-up comedy for a hilarious and memorable journey into the lives of three gifted comedians. Local comedian Doug Nunn of Hit and Run Theater hosts this one-night-only event.\n\nThe film\, â€œ3 Still Standingâ€ will be shown during the Mendocino Film Festival. Fridayâ€™s screening is at 8PM in the festival tent in Mendocino and Saturdayâ€™s screening is Saturday morning at 10AM at Coast Cinema in Fort Bragg.
X-ALT-DESC;FMTTYPE=text/html:<p><span style="font-size:small\;">A special live performance by three San Francisco comedians who are also featured in a documentary film is happening at the Mendocino Film Festival tent on Saturday\, May 30 at 8PM. Join Will Durst\, Larry â€œBubblesâ€ Brown\, and Johnny Steele for a night of laughter\, as the legendary comedians take to the stage. See the comedians perform live as they riff on clips from 3 Still Standing\, weaving together film and stand-up comedy for a hilarious and memorable journey into the lives of three gifted comedians. Local comedian Doug Nunn of Hit and Run Theater hosts this one-night-only event.</span><br /><br /><span style="font-size:small\;">The film\, â€œ3 Still Standingâ€ will be shown during the Mendocino Film Festival. Fridayâ€™s screening is at 8PM in the festival tent in Mendocino and Saturdayâ€™s screening is Saturday morning at 10AM at Coast Cinema in Fort Bragg.</span></p>
LOCATION:Mendocino Film Festival Tent
UID:e.2883.612
SEQUENCE:3
DTSTAMP:20260422T114848Z
URL:https://mendocinocoast.com/events/details/3-still-standing-live-on-stage-04-22-2015-612
END:VEVENT

END:VCALENDAR
