BEGIN:VCALENDAR
VERSION:2.0
PRODID:-//ChamberMaster//Event Calendar 2.0//EN
METHOD:PUBLISH
X-PUBLISHED-TTL:P3D
REFRESH-INTERVAL:P3D
CALSCALE:GREGORIAN
BEGIN:VEVENT
DTSTART:20150325T163000Z
DTEND:20150325T203000Z
X-MICROSOFT-CDO-ALLDAYEVENT:FALSE
SUMMARY:3-month long home vegetable gardening course
DESCRIPTION:Mendocino Coast Botanical Gardens presents a three-month-long home vegetable gardening course starting April 4 and running every other Saturday through June 27. Course details can be found at www.gardenbythesea.org or by phoning 707-964-4352 ext. 16.
X-ALT-DESC;FMTTYPE=text/html:<p>Mendocino Coast Botanical Gardens presents a three-month-long home vegetable gardening course starting April 4 and running every other Saturday through June 27. Course details can be found at <a href="http://www.gardenbythesea.org" target="_blank">www.gardenbythesea.org</a> or by phoning 707-964-4352 ext. 16.</p>
LOCATION:Mendocino Coast Botanical Gardens Fort Bragg
UID:e.2883.572
SEQUENCE:3
DTSTAMP:20260422T134125Z
URL:https://mendocinocoast.com/events/details/3-month-long-home-vegetable-gardening-course-03-25-2015-572
END:VEVENT

END:VCALENDAR
