BEGIN:VCALENDAR
VERSION:2.0
PRODID:-//ChamberMaster//Event Calendar 2.0//EN
METHOD:PUBLISH
X-PUBLISHED-TTL:P3D
REFRESH-INTERVAL:P3D
CALSCALE:GREGORIAN
BEGIN:VEVENT
DTSTART:20151107T200000Z
DTEND:20151108T003100Z
X-MICROSOFT-CDO-ALLDAYEVENT:FALSE
SUMMARY:2nd Annual Ceramic Sale and Bake Sale\, too
DESCRIPTION:Ceramic Sale features 15 local ceramic artists and the Bake Sale features the best bakers in the Fort Bragg Grange. Come shop for pottery and enjoy coffee\, tea and baked goods to eat at the Grange or take out.
X-ALT-DESC;FMTTYPE=text/html:<p>Ceramic Sale features 15 local ceramic artists and the Bake Sale features the best bakers in the Fort Bragg Grange. Come shop for pottery and enjoy coffee\, tea and baked goods to eat at the Grange or take out.</p>
LOCATION:Fort Bragg Grange #672
UID:e.2883.780
SEQUENCE:3
DTSTAMP:20260422T015320Z
URL:https://mendocinocoast.com/events/details/2nd-annual-ceramic-sale-and-bake-sale-too-11-07-2015-780
END:VEVENT

END:VCALENDAR
