BEGIN:VCALENDAR
VERSION:2.0
PRODID:-//ChamberMaster//Event Calendar 2.0//EN
METHOD:PUBLISH
X-PUBLISHED-TTL:P3D
REFRESH-INTERVAL:P3D
CALSCALE:GREGORIAN
BEGIN:VEVENT
DTSTART:20160429T170000Z
DTEND:20160430T000000Z
X-MICROSOFT-CDO-ALLDAYEVENT:FALSE
SUMMARY:24th Annual Mendocino Coast Garden Tour
DESCRIPTION:Enjoy a behind-the-scenes glimpse of a diverse selection of some of the Mendocino Coast's most beautiful private gardens on this self-guided tour. Also look for the return of the popular garden shop and plant sale\, a gourmet vegan lunch at the Stanford Inn's Ravens Restaurant and other fun garden-related activities\, including an Open Night Gala at a French-Inspired ocean view home\, with live music\, sparkling wines and hors dâ€™oeuvres\, June 24.\n more information athttp://www.MendocinoArtCenter.org/Garden.htmlÂ or call 707-937-5818 x10Â A fundraiser for the Mendocino Art Center.
X-ALT-DESC;FMTTYPE=text/html:<p style="margin:0in\;margin-bottom:.0001pt\;"><span style="font-size:12pt\;font-family:Helvetica\;">Enjoy a behind-the-scenes glimpse of a diverse selection of some of the Mendocino Coast's most beautiful private gardens on this self-guided tour. Also look for the return of the popular garden shop and plant sale\, a gourmet vegan lunch at the Stanford Inn's Ravens Restaurant and other fun garden-related activities\, including an Open Night Gala at a French-Inspired ocean view home\, with live music\, sparkling wines and hors dâ€™oeuvres\, June 24.</span></p><p style="margin:0in\;margin-bottom:.0001pt\;"><span style="font-size:12pt\;font-family:Helvetica\;"><br /></span></p><p style="margin:0in\;margin-bottom:.0001pt\;"><span style="font-size:12pt\;font-family:Helvetica\;"> </span></p><p style="margin:0in\;margin-bottom:.0001pt\;"><span style="font-size:12pt\;font-family:Helvetica\;">more information at</span></p><p style="margin:0in\;margin-bottom:.0001pt\;"><span style="font-size:12pt\;font-family:Helvetica\;">http://www.MendocinoArtCenter.org/Garden.html</span></p><p style="margin:0in\;margin-bottom:.0001pt\;">Â </p><p style="margin:0in\;margin-bottom:.0001pt\;"><span style="font-size:12pt\;font-family:Helvetica\;">or call 707-937-5818 x10</span></p><p style="margin:0in\;margin-bottom:.0001pt\;">Â </p><p style="margin:0in\;margin-bottom:.0001pt\;"><span style="font-size:12pt\;font-family:Helvetica\;">A fundraiser for the Mendocino Art Center.<br /></span></p>
LOCATION:Mendocino Art Center
UID:e.2883.917
SEQUENCE:3
DTSTAMP:20260421T155138Z
URL:https://mendocinocoast.com/events/details/24th-annual-mendocino-coast-garden-tour-04-29-2016-917
END:VEVENT

END:VCALENDAR
