BEGIN:VCALENDAR
VERSION:2.0
PRODID:-//ChamberMaster//Event Calendar 2.0//EN
METHOD:PUBLISH
X-PUBLISHED-TTL:P3D
REFRESH-INTERVAL:P3D
CALSCALE:GREGORIAN
BEGIN:VEVENT
DTSTART:20150710T230000Z
DTEND:20150711T020000Z
X-MICROSOFT-CDO-ALLDAYEVENT:FALSE
SUMMARY:24th Annual FBVFD Tri Tip BBQ
DESCRIPTION:Tri-Tip\, Beans\, Salad\, Garlic Bread & DessertNorth Coast Brewery Beer on Tap
X-ALT-DESC;FMTTYPE=text/html:<p>Tri-Tip\, Beans\, Salad\, Garlic Bread &amp\; Dessert</p><p>North Coast Brewery Beer on Tap</p>
LOCATION:Fort Bragg Fire Department
UID:e.2883.685
SEQUENCE:3
DTSTAMP:20260422T064320Z
URL:https://mendocinocoast.com/events/details/24th-annual-fbvfd-tri-tip-bbq-07-10-2015-685
END:VEVENT

END:VCALENDAR
