BEGIN:VCALENDAR
VERSION:2.0
PRODID:-//ChamberMaster//Event Calendar 2.0//EN
METHOD:PUBLISH
X-PUBLISHED-TTL:P3D
REFRESH-INTERVAL:P3D
CALSCALE:GREGORIAN
BEGIN:VEVENT
DTSTART:20140731T230000Z
DTEND:20140801T020100Z
X-MICROSOFT-CDO-ALLDAYEVENT:FALSE
SUMMARY:23rd Annual FBVFD Tri Tip BBQ
DESCRIPTION:Tri Tip\, Beans\, Salad\, Garlic Bread & Dessert.Â  North Coast Brewery Beer on tap and music by local band 12 Thirty.Adult tickets: $15Children under 8 years: $8
X-ALT-DESC;FMTTYPE=text/html:<p>Tri Tip\, Beans\, Salad\, Garlic Bread &amp\; Dessert.Â  North Coast Brewery Beer on tap and music by local band 12 Thirty.</p><p>Adult tickets: $15</p><p>Children under 8 years: $8</p>
LOCATION:Fort Bragg Fire House
UID:e.2883.299
SEQUENCE:3
DTSTAMP:20260423T023434Z
URL:https://mendocinocoast.com/events/details/23rd-annual-fbvfd-tri-tip-bbq-07-31-2014-299
END:VEVENT

END:VCALENDAR
