BEGIN:VCALENDAR
VERSION:2.0
PRODID:-//ChamberMaster//Event Calendar 2.0//EN
METHOD:PUBLISH
X-PUBLISHED-TTL:P3D
REFRESH-INTERVAL:P3D
CALSCALE:GREGORIAN
BEGIN:VEVENT
DTSTART:20140510T190000Z
DTEND:20140511T020000Z
X-MICROSOFT-CDO-ALLDAYEVENT:FALSE
SUMMARY:22nd Annual Mendocino Coast Garden Tour
DESCRIPTION:Enjoy a behind-the-scenes glimpse of a diverse selection of some of the Mendocino Coasts most beautiful private gardens on this self-guided tour. Also look for the return of the popular garden shop and plant sale and lunch benefiting the Art Center. The Garden Tour is the Mendocino Art Centers largest annual fundraiser.
X-ALT-DESC;FMTTYPE=text/html:<p>Enjoy a behind-the-scenes glimpse of a diverse selection of some of the Mendocino Coasts most beautiful private gardens on this self-guided tour. Also look for the return of the popular garden shop and plant sale and lunch benefiting the Art Center. The Garden Tour is the Mendocino Art Centers largest annual fundraiser.</p>
LOCATION:Mendocino Art Center\, 45200 Little Lake Street\, Mendocino
UID:e.2883.30
SEQUENCE:3
DTSTAMP:20260423T100246Z
URL:https://mendocinocoast.com/events/details/22nd-annual-mendocino-coast-garden-tour-05-10-2014-30
END:VEVENT

END:VCALENDAR
