BEGIN:VCALENDAR
VERSION:2.0
PRODID:-//ChamberMaster//Event Calendar 2.0//EN
METHOD:PUBLISH
X-PUBLISHED-TTL:P3D
REFRESH-INTERVAL:P3D
CALSCALE:GREGORIAN
BEGIN:VEVENT
DTSTART:20150127T180100Z
DTEND:20150128T010000Z
X-MICROSOFT-CDO-ALLDAYEVENT:FALSE
SUMMARY:2015 Quilt Show
DESCRIPTION:SAVE THE DATES!\n\nThe 2015 Fort Bragg Quilt Show will be held:\n\nSaturday\, June 27th from 10 a.m. to 5 p.m.\nSunday\, June 28th from 10 a.m. to 3 p.m.\n\nThe location is Dana Gray Elementary School\, 1197 Chestnut Street\, FortÂ \nBragg\, CA. Â \n\nWe are excited about this venue - lots of natural light and tons of space\nfor hanging quilts large and small - and for demonstrations of quiltingÂ \ntechniques and for vendors! Â \n\nThis show is co-sponsored by the Soroptimist International Noyo Sunrise\nand the Ocean Wave Quilters of Fort Bragg.\n\nStay tuned for more details in the coming weeks.For more information\, go toÂ http://www.oceanwavequilters.com/QuiltShow2015.html or send an email to info@oceanwavequilters.com.
X-ALT-DESC;FMTTYPE=text/html:<p><strong><span style="color: #006666\; font-size: small\;"><span>SAVE THE DATES!<br /><br /></span></span></strong><span style="color: #006666\; font-size: small\;"><span>The 2015 Fort Bragg Quilt Show will be held:<br /><br /></span></span><strong><span style="color: #006666\; font-size: small\;"><span>Saturday\, June 27th from 10 a.m. to 5 p.m.<br />Sunday\, June 28th from 10 a.m. to 3 p.m.<br /><br /></span></span></strong><span style="color: #006666\; font-size: small\;"><span>The location is Dana Gray Elementary School\, 1197 Chestnut Street\, FortÂ <br />Bragg\, CA. Â <br /><br />We are excited about this venue - lots of natural light and tons of space<br />for hanging quilts large and small - and for demonstrations of quiltingÂ <br />techniques and for vendors! Â <br /><br />This show is co-sponsored by the Soroptimist International Noyo Sunrise<br />and the Ocean Wave Quilters of Fort Bragg.<br /><br />Stay tuned for more details in the coming weeks.</span></span></p><p><span style="color: #006666\; font-size: small\;"><span>For more information\, go toÂ http://www.oceanwavequilters.com/QuiltShow2015.html or send an email to info@oceanwavequilters.com.</span></span></p>
LOCATION:Dana Gray Elementary School Fort Bragg CA
UID:e.2883.452
SEQUENCE:3
DTSTAMP:20260422T163357Z
URL:https://mendocinocoast.com/events/details/2015-quilt-show-01-27-2015-452
END:VEVENT

END:VCALENDAR
