BEGIN:VCALENDAR
VERSION:2.0
PRODID:-//ChamberMaster//Event Calendar 2.0//EN
METHOD:PUBLISH
X-PUBLISHED-TTL:P3D
REFRESH-INTERVAL:P3D
CALSCALE:GREGORIAN
BEGIN:VEVENT
DTSTART;VALUE=DATE:20140404
DTEND;VALUE=DATE:20140405
TRANSP:TRANSPARENT
X-MICROSOFT-CDO-ALLDAYEVENT:TRUE
SUMMARY:2014 Earth Day Celebration- Free Outrigger Rides in Mendocino on Big River Estuary!
DESCRIPTION:Catch a Canoe & Bicycles Too at the Stanford Inn by the Sea is celebratingÂ Earth Day byÂ offering complimentary one hour rides along beautiful Big River Estuary on Saturday\, April 19th.\n\nThe locally madeÂ Solar Wind is a 9 person redwood outrigger which has a unique configuration aimed at un-tipable stability\, combined with tribrid propulsion. A large downwind sail is utilized to silently glide upriver with a tailwind. Human power is used at the paddlers discretion\, and as the breeze varies. On the return trip\, a solar and electric drive is used to effortlessly return regardless of wind and tide direction. This boat is typically used for guided tours during the summer.Reservations areÂ necessary and can be made by calling Catch a Canoe and Bicycles Too atÂ (707) 937-0273 between 9 and 5 daily.
X-ALT-DESC;FMTTYPE=text/html:<p><div><span><span><span><span>Catch a Canoe &amp\; Bicycles Too </span></span>at the Stanford Inn by the Sea is celebratingÂ <span><span>Earth</span></span> <span><span>Day</span></span> byÂ <span>offering complimentary one hour rides along beautiful Big River Estuary on Saturday\, April 19th</span></span></span>.<br /><br /></div><div>The locally madeÂ <em>Solar Wind</em> is a 9 person redwood outrigger which has a unique configuration aimed at un-tipable stability\, combined with tribrid propulsion. A large downwind sail is utilized to silently glide upriver with a tailwind. Human power is used at the paddlers discretion\, and as the breeze varies. On the return trip\, a solar and electric drive is used to effortlessly return regardless of wind and tide direction. This boat is typically used for guided tours during the summer.</div><strong><span>Reservations areÂ <span>necessary</span></span> and can be made by calling Catch a Canoe and Bicycles Too atÂ <a href="tel:%28707%29%20937-0273" target="_blank">(707) 937-0273</a> between 9 and 5 daily.</strong></p>
LOCATION:Catch a Canoe & Bicycles\,Too Mendocino
UID:e.2883.197
SEQUENCE:3
DTSTAMP:20260423T114137Z
URL:https://mendocinocoast.com/events/details/2014-earth-day-celebration-free-outrigger-rides-in-mendocino-on-big-river-estuary-04-04-2014-197
END:VEVENT

END:VCALENDAR
