BEGIN:VCALENDAR
VERSION:2.0
PRODID:-//ChamberMaster//Event Calendar 2.0//EN
METHOD:PUBLISH
X-PUBLISHED-TTL:P3D
REFRESH-INTERVAL:P3D
CALSCALE:GREGORIAN
BEGIN:VEVENT
DTSTART;VALUE=DATE:20141202
DTEND;VALUE=DATE:20141203
TRANSP:TRANSPARENT
X-MICROSOFT-CDO-ALLDAYEVENT:TRUE
SUMMARY:20% off red tag sale Suzi Long
DESCRIPTION:From Dec 12 - 28 there will be a 20% off red tag sale at the fabulous art gallery The world of Suzi Long.One of 5 working watertowers in Mendocino showcases the colorful pastel paintings of award-winning artist and instructor Suzi Marquess Long. You'll find images of local scenery painted en plein air and framed in the third-floor studio. Suzi is gracious and entertaining with her visitors\, and teaches a drop-in travel sketching class most weekends and by appointment.The gallery is located at611 Albion St\nMendocino\, CA 95460
X-ALT-DESC;FMTTYPE=text/html:<p>From Dec 12 - 28 there will be a 20% off red tag sale at the fabulous art gallery The world of Suzi Long.</p><p>One of 5 working watertowers in Mendocino showcases the colorful pastel paintings of award-winning artist and instructor Suzi Marquess Long. You'll find images of local scenery painted en plein air and framed in the third-floor studio. Suzi is gracious and entertaining with her visitors\, and teaches a drop-in travel sketching class most weekends and by appointment.</p><p>The gallery is located at</p><table><tbody><tr><td></td><td><p>611 Albion St<br />Mendocino\, CA 95460</p></td></tr></tbody></table>
LOCATION:The World of Suzi Long Mendocino
UID:e.2883.385
SEQUENCE:3
DTSTAMP:20260422T182048Z
URL:https://mendocinocoast.com/events/details/20-off-red-tag-sale-suzi-long-12-02-2014-385
END:VEVENT

END:VCALENDAR
