BEGIN:VCALENDAR
VERSION:2.0
PRODID:-//ChamberMaster//Event Calendar 2.0//EN
METHOD:PUBLISH
X-PUBLISHED-TTL:P3D
REFRESH-INTERVAL:P3D
CALSCALE:GREGORIAN
BEGIN:VEVENT
DTSTART:20150817T005500Z
DTEND:20150817T015400Z
X-MICROSOFT-CDO-ALLDAYEVENT:FALSE
SUMMARY:2 Nights Free w/Beach Week Special
DESCRIPTION:Come Camp w/us! See. hear\, feel the ocean breeze kissing the big and beautiful trees in huge sites that fit all sizes. Â Tents\, Rv's\, Trailers\, Boats are welcome. Hot showers and full service amenities including wet suit cleaning & fish cleaning station\, indoor pool\, laundry\, propane\, firewood and more in the store. Â All sites have picnic table\, firering\, and FREE wi-fi! Partial and full-hk-up sites include FREE comcast cable.
X-ALT-DESC;FMTTYPE=text/html:<p><strong><span style="color: #0000ff\;">Come Camp w/us! See. hear\, feel the ocean breeze kissing the big and beautiful trees in huge sites that fit all sizes. Â Tents\, Rv's\, Trailers\, Boats are welcome. Hot showers and full service amenities including wet suit cleaning &amp\; fish cleaning station\, indoor pool\, laundry\, propane\, firewood and more in the store. Â All sites have picnic table\, firering\, and FREE wi-fi! Partial and full-hk-up sites include FREE comcast cable.</span></strong></p>
LOCATION:Hidden Pines RV Park & Campground Fort Bragg
UID:e.2883.709
SEQUENCE:3
DTSTAMP:20260422T064413Z
URL:https://mendocinocoast.com/events/details/2-nights-free-w-beach-week-special-08-16-2015-709
END:VEVENT

END:VCALENDAR
