BEGIN:VCALENDAR
VERSION:2.0
PRODID:-//ChamberMaster//Event Calendar 2.0//EN
METHOD:PUBLISH
X-PUBLISHED-TTL:P3D
REFRESH-INTERVAL:P3D
CALSCALE:GREGORIAN
BEGIN:VEVENT
DTSTART:20150508T161300Z
DTEND:20150508T221300Z
X-MICROSOFT-CDO-ALLDAYEVENT:FALSE
SUMMARY:18th annual Anderson Valley Pinot Noir Technical Conference
DESCRIPTION:Don't miss this opportunity to attend a full day ofÂ educational seminars about winegrowing and winemaking. Interact with grape growers and winemakers\, plus members of the media\, while exploring the intricacies of Â Pinot Noir produced in Anderson Valley. A light breakfast & fullÂ lunch is included.PROGRAM Moderator - Glenn McGourty\, Viticulture and Plant Science Advisor UCCE Davis
X-ALT-DESC;FMTTYPE=text/html:<p><span><p><em>Don't miss this opportunity to attend a full day ofÂ educational seminars about winegrowing and winemaking. </em><em>Interact with grape growers and winemakers\, plus members of the media\, while exploring the intricacies of Â Pinot Noir produced in Anderson Valley. A light breakfast &amp\; fullÂ lunch is included.</em></p><strong>PROGRAM </strong></span></p><p><strong>Moderator - Glenn McGourty\, Viticulture and Plant Science Advisor UCCE Davis</strong></p>
LOCATION:Foursight Wines Boonville
UID:e.2883.624
SEQUENCE:3
DTSTAMP:20260422T101549Z
URL:https://mendocinocoast.com/events/details/18th-annual-anderson-valley-pinot-noir-technical-conference-05-08-2015-624
END:VEVENT

END:VCALENDAR
